{"text_format":"1","workbook":"xlsx","n_sheets":7,"sheets":["Розрахунок","Сортамент","Фи","Рама","Колона","Ферма","Сортамент труби"],"not_rendered":{"charts":0,"images":3,"macros":1,"external_links":1,"defined_names":7,"comments":0,"pivot_tables":0},"unopened":[],"bounds":{"document_bytes":16777216,"sheet_cells":100000,"rows_first":2000,"rows_last":500,"rows_between":2000,"halvings":0,"cell_chars":16384,"cell_head_chars":4096},"cells_cut":0,"cells_raw":0,"read":"whole","date_system":"1900"}

{"sheet":"Розрахунок","index":0,"n_rows":23,"n_cols":10,"rows_kept":23,"cut":false,"hidden":false,"merged":[]}
["Перевірка стійкості позацентрово стиснутої двотаврової колони за ДБН В.2.6-163:2010"]
[]
["Величини","Познач",null,"Розм",null,"Величини","Познач","Ось X","Ось Y","Розм"]
["Поздовжня сила","N",277,"кН",null,"Гнучкість","Lam",{"$f":"C6/C19","v":228.57142857142858},{"$f":"C7/C22","v":78.048780487804891}]
["Згинальний момент","M",196,"кНм",null,"Умовна гнучкість","Lam_U",{"$f":"H4*SQRT(C8/206000)","v":7.6375180646227019},{"$f":"I4*SQRT(C8/206000)","v":2.6079329976760448}]
["Розрахункова довжина в площині рами","L_x",2560,"см",null,"Гранична гнучкість за табл. 1.9.9","Lam_lim",{"$f":"IF( H17>0.5,180-60*H17,150)","v":30.975856064208614},{"$f":"IF( I17>0.5,180-60*I17,150)","v":150}]
["Розрахункова довжина з площини рами","L_y",640,"см",null,"Ексцентриситет навантаження","e",{"$f":"100*C5/C4","v":70.758122743682307},null,"см"]
["Розрахунковий опвр сталі","R_y",230,"Мпа",null,"Відносний ексцентриситет","m",{"$f":"H7*C16/C18","v":8.4597250851279462},{"$f":"H8*2/3","v":5.6398167234186305}]
["Коефіцієнт умов роботи","Gam_c",1,null,null,"Коефіцієнт форми перерізу","Eta",1.2230593607305935]
[null,null,null,null,null,"Приведений ексцентриситет","m_ef",{"$f":"H8*H9","v":10.346745954573151}]
["Профіль двотавра",null,"Гн 300x200x8",null,null,"Коефіцієнт стійкості","Fi",6.3970146024236535E-2,{"$f":"MIN(0.5*(9.87*(1-0.04+0.09*I5)+I5^2-SQRT((9.87*(1-0.04+0.09*I5)+I5^2)^2-39.48*I5^2))/I5^2,7.6/I5^2)","v":0.72099398915444657}]
["Висота двотавра","h",300,"мм",null,"Параметр формули (1.6.8)","alf",null,0.93199083617093159]
["Ширина полички","b",200,"мм",null,"Параметр формули (1.6.8)","bet",null,1]
["Товщина полички","t_f",8,"мм",null,"Параметр формули (1.6.8)","v",null,0.72927171738410579]
["Товщина стінки","t_w",16,"мм",null,"Коефіцієнт стійкості при згині за дод. П ","fi_b",null,1]
["Площа перерізу","A",75.8,"см2",null,"Коефіцієнт у формулі (1.6.7) за 1.6.2.5","C",null,0.67344086245152424]
["Момент інерції в площині рами","I_x",9512,"см4",null,"Результат перевірки стійкості","Alfa",{"$f":"10*C4/(H11*C16*C8*C9)","v":2.4837357322631899},{"$f":"10*C4/(I16*I11*C16*C8*C9)","v":0.32722887461524364}]
["Момент опору в площині рами","W_x",634,"см3"]
["Радіус інерції в площині рами","i_x",11.2,"см",null,"1. Ввести загальні вихідні дані в першу таблицю (L_y  можна пізніше змінити) "]
["Момент інерції з площини рами","I_y",5069,"см4",null,"2. Вибрати профіль двотавра із списку (перша зелена клітинка другої таблиці)"]
["Момент опору з площини рами","W_y",510,"см3",null,"3. Натиснути Ctrl+Shift+R (на англійському регістрі) або кнопку розрахунку і \"Виконати розрахунок\""]
["Радіус інерції з площини рами","i_y",8.1999999999999993,"см",null,"4. Проаналізувати результати розрахунку (третя таблиця)"]
["Відношення площі полички до стінки","Af/Aw",0.36529680365296802,null,null,"5. Змінювати профіль двотавра, добиваючись виконання розрахункових вимог"]

{"sheet":"Сортамент","index":1,"n_rows":166,"n_cols":15,"rows_kept":166,"cut":false,"hidden":false,"merged":[[0,0,2,0],[0,1,0,4],[0,8,0,14],[1,1,2,1],[1,2,2,2],[1,3,2,3],[1,4,2,4],[1,8,1,11],[1,12,1,14]]}
["Номер профілю","Розміри в  мм",null,null,null,"А",null,"Масса","Довідкові величини для осей"]
[null,"h","b","tw","tf","см2",null,"1 м, кг","Х-Х",null,null,null,"Y-Y"]
[null,null,null,null,null,null,null,null,"Ix, см4","Wx,см3","Sx, см3","ix, см","Iy, см4","Wy,см3","iy, см"]
["склад",{"$f":"Розрахунок!C12","v":300},{"$f":"Розрахунок!C13","v":200},{"$f":"Розрахунок!C15","v":16},{"$f":"Розрахунок!C14","v":8},{"$f":"(E4*C4*2+(B4-2*E4)*D4)/100","v":77.44},{"$f":"(C4*E4)/(100*F4-2*C4*E4)","v":0.352112676056338},null,{"$f":"D4*(B4-2*E4)^3/120000+2*C4*E4*(B4-E4)^2/40000","v":9875.2938666666669},{"$f":"20*I4/B4","v":658.35292444444451},null,{"$f":"SQRT(I4/F4)","v":11.292558314139313},{"$f":"2*E4*C4^3/120000","v":1066.6666666666667},{"$f":"20*M4/C4","v":106.66666666666669},{"$f":"SQRT(M4/F4)","v":3.7113480951260276}]
["20K1",195,200,6.5,10,52.82,{"$f":"(C5*E5)/(100*F5-2*C5*E5)","v":1.5600624024960998},41.5,3820,392,216,8.5,1334,133,5.03]
["20K2",198,200,7,11.5,59.7,{"$f":"(C6*E6)/(100*F6-2*C6*E6)","v":1.6788321167883211},46.9,4422,447,247,8.61,1534,153,5.07]
["23K1",227,240,7,10.5,66.510000000000005,1.5642458100558649,52.2,6589,580,318,9.9499999999999993,2421,202,6.03]
["23K2",230,240,8,12,75.77,1.5850302696752889,59.5,7601,661,365,10.02,2766,231,6.04]
["26K1",255,260,8,12,83.08,1.5087040618955512,65.2,10300,809,445,11.14,3517,271,6.51]
["26K2",258,260,9,13.5,93.19,1.526750761200522,73.2,11700,907,501,11.21,3957,304,6.52]
["26K3",262,260,10,15.5,105.9,1.5928853754940711,83.1,13560,1035,576,11.32,4544,349,6.55]
["30K1",296,300,9,13.5,108,1.5,84.8,18110,1223,672,12.95,6079,405,7.5]
["30K2",300,300,10,15.5,122.7,1.5656565656565657,96.3,20930,1395,771,13.06,6980,465,7.54]
["30К3",304,300,11.5,17.5,138.72,1.5569395017793595,108.9,23910,1573,874,13.12,7881,525,7.54]
["35К1",343,350,10,15,139.69999999999999,1.5129682997118163,109.7,31610,1843,1010,15.04,10720,613,8.76]
["35К2",348,350,11,17.5,160.4,1.6160949868073879,125.9,37090,2132,1173,15.21,12510,715,8.83]
["35K3",353,350,13,20,184.1,1.5873015873015872,144.5,42970,2435,1351,15.28,14330,817,8.81]
["40К1",393,400,11,16.5,175.8,1.5068493150684932,138,52400,2664,1457,17.260000000000002,17610,880,10]
["40К2",400,400,13,20,210.96,1.5698587127158556,165.6,64140,3207,1767,17.440000000000001,21350,1067,10.06]
["40K3",409,400,16,24.5,257.8,1.5857605177993528,202.3,80040,3914,2180,17.62,26150,1307,10.07]
["40К4",419,400,19,29.5,308.60000000000002,1.625344352617079,242.2,98340,4694,2642,17.850000000000001,31500,1575,10.1]
["40К5",431,400,23,35.5,371,1.632183908045977,291.2,121570,5642,3217,18.100000000000001,37910,1896,10.11]
["20Ш1",193,150,6,9,38.950000000000003,1.1297071129707108,30.6,2660,275,153,8.26,507,67.599999999999994,3.61]
["23Ш1",226,155,6.5,10,46.08,1.0278514588859415,36.200000000000003,4260,377,210,9.6199999999999992,622,80.2,3.67]
["26Ш1",251,180,7,10,54.37,0.979858464888405,42.7,6225,496,276,10.7,974,108.2,4.2300000000000004]
["26Ш2",255,180,7.5,12,62.73,1.1059907834101383,49.2,7429,583,325,10.88,1168,129.80000000000001,4.3099999999999996]
["30Ш1",291,200,8,11,68.31,0.90497737556561086,53.6,10400,715,398,12.34,1470,147,4.6399999999999997]
["30Ш2",295,200,8.5,13,77.650000000000006,1.0136452241715397,61,12200,827,462,12.53,1737,173.7,4.7300000000000004]
["30Ш3",299,200,9,15,87,1.1111111111111112,68.3,14040,939,526,12.7,2004,200.4,4.8]
["35Ш1",338,250,9.5,12.5,95.67,0.94211637021404881,75.099999999999994,19790,1171,651,14.38,3260,261,5.84]
["35Ш2",341,250,10,14,104.74,1.0074841681059297,82.2,22070,1295,721,14.52,3650,292,5.9]
["35Ш3",345,250,10.5,16,116.3,1.1019283746556474,91.3,25140,1458,813,14.7,4170,334,5.99]
["40Ш1",388,300,9.5,14,122.4,1.09375,96.1,34360,1771,976,16.760000000000002,6306,420,7.18]
["40Ш2",392,300,11.5,16,141.6,1.0526315789473684,111.1,39700,2025,1125,16.75,7209,481,7.14]
["40Ш3",396,300,12.5,18,157.19999999999999,1.0975609756097564,123.4,44740,2260,1259,16.87,8111,541,7.18]
["50Ш1",484,300,11,15,145.69999999999999,0.80789946140035929,114.4,60930,2518,1403,20.45,6762,451,6.81]
["50Ш2",489,300,14.5,17.5,176.6,0.73324022346368711,138.69999999999999,72530,2967,1676,20.260000000000002,7900,526,6.69]
["50Ш3",495,300,15.5,20.5,199.2,0.80708661417322836,156.4,84200,3402,1923,20.56,9250,617,6.81]
["50Ш4",501,300,16.5,23.5,221.7,0.87360594795539037,174.1,96150,3838,2173,20.82,10600,707,6.92]
["60Ш1",580,320,12,17,181.1,0.75242047026279391,142.1,107300,3701,2068,24.35,9302,581,7.17]
["60Ш2",587,320,16,20.5,225.3,0.69713071200850163,176.9,131800,4490,2544,24.19,11230,702,7.06]
["60ШЗ",595,320,18,24.5,261.8,0.7466666666666667,205.5,156900,5273,2997,24.48,13420,839,7.16]
["60Ш4",603,320,20,28.5,298.33999999999997,0.78661376574090069,234.2,182500,6055,3455,24.73,15620,976,7.23]
["70Ш1",683,320,13.5,19,216.4,0.64135021097046419,169.9,172000,5036,2843,28.19,10400,650,6.93]
["70Ш2",691,320,15,23,251.7,0.70430622009569377,197.6,205500,5949,3360,28.58,12590,787,7.07]
["70ШЗ",700,320,18,27.5,299.8,0.71082390953150243,235.4,247100,7059,4017,28.72,15070,942,7.09]
["70Ш4",708,320,20.5,31.5,341.6,0.72,261.10000000000002,284400,8033,4598,28.85,17270,"l079",7.11]
["70Ш5",718,320,23,36.5,389.7,0.74823830877642539,305.89999999999998,330600,9210,5298,29.13,20020,1251,7.17]
["10Б1",100,55,4.0999999999999996,5.7,10.32,0.77407407407407403,8.1,171,34.200000000000003,19.7,4.07,15.9,5.8,1.24]
["12Б1",117.6,64,3.8,5.0999999999999996,11.03,0.72501110617503317,8.6999999999999993,257,43.8,24.9,4.83,22.4,7,1.42]
["12Б2",120,64,4.4000000000000004,6.3,13.21,0.78352118150019423,10.4,318,53,30.4,4.9000000000000004,27.7,8.6,1.45]
["14Б1",137.4,73,3.8,5.6,13.39,0.78404296125815087,10.5,435,63.3,35.799999999999997,5.7,36.4,10,1.65]
["14Б2",140,73,4.7,6.9,16.43,0.79247954688483346,12.9,541,77.3,44.2,5.74,44.9,12.3,1.65]
["16Б1",157,82,4,5.9,16.18,0.74384993849938508,12.7,689,87.8,49.5,6.53,54.4,13.3,1.83]
["16Б2",160,82,5,7.4,20.09,0.76288659793814451,15.8,869,108.7,61.9,6.58,68.3,16.600000000000001,1.84]
["18Б1",177,91,4.3,6.5,19.579999999999998,0.76322580645161309,15.4,1063,120.1,67.7,7.37,81.900000000000006,18,2.04]
["18Б2",180,91,5.3,8,23.95,0.7752928647497338,18.8,1317,146.30000000000001,83.2,7.41,100.8,22.2,2.0499999999999998]
["20Б1",200,100,5.6,8.5,28.49,0.73977371627502175,22.4,1943,194.3,110.3,8.26,142.30000000000001,28.5,2.23]
["23Б1",230,110,5.6,9,32.909999999999997,0.75514874141876454,25.8,2996,260.5,147.19999999999999,9.5399999999999991,200.3,36.4,2.4700000000000002]
["26Б1",258,120,5.8,8.5,35.619999999999997,0.67017082785808169,28,4024,312,176.6,10.63,245.6,40.9,2.63]
["26Б2",261,120,6,10,39.700000000000003,0.76433121019108263,31.2,4654,356.6,201.5,10.83,288.8,48.1,2.7]
["30Б1",296,140,5.8,8.5,41.92,0.6567328918322296,32.9,6328,427,240,12.29,390,55.7,3.05]
["30Б2",299,140,6,10,46.67,0.74986609534011783,36.6,7293,487.8,273.8,12.5,458.6,65.5,3.13]
["35Б1",346,155,6.2,8.5,49.53,0.56837791199309751,38.9,10060,581.70000000000005,328.6,14.25,529.6,68.3,3.27]
["35Б2",349,155,6.5,10,55.17,0.6412908564335954,43.3,11550,662.2,373,14.47,622.9,80.400000000000006,3.36]
["40Б1",392,165,7,9.5,61.25,0.52424749163879603,48.1,15750,803.6,456,16.03,714.9,86.7,3.42]
["40Б2",396,165,7.5,11.5,69.72,0.59726156751652504,54.7,18530,935.7,529.70000000000005,16.3,865,104.8,3.52]
["45Б1",443,180,7.8,11,76.23,0.54054054054054057,59.8,24940,1125.8,639.5,18.09,1073.7,119.3,3.75]
["45Б2",447,180,8.4,13,85.96,0.59754851889683347,67.5,28870,1291.9000000000001,732.9,18.32,1269,141,3.84]
["50Б1",492,200,8.8000000000000007,12,92.98,{"$f":"(C70*E70)/(100*F70-2*C70*E70)","v":0.53357047576700756},73,37160,1511,860.4,19.989999999999998,1606,160.6,4.16]
["50Б2",496,200,9.1999999999999993,14,102.8,0.59829059829059827,80.7,42390,1709,970.2,20.3,1873,187.3,4.2699999999999996]
["55Б1",543,220,9.5,13.5,113.37,0.55030572540300171,89,55680,2051,1165,22.16,2404,218.6,4.6100000000000003]
["55Б2",547,220,10,15.5,124.75,0.6030061892130858,97.9,62790,2296,1302,22.43,2760,250.9,4.7]
["60Б1",593,230,10.5,15.5,135.26,0.55737961225766108,106.2,78760,2656,1512,24.13,3154,274.3,4.83]
["60Б2",597,230,11,17.5,147.30000000000001,0.60254491017964051,115.6,87640,2936,1669,24.39,3561,309.60000000000002,4.92]
["70Б1",691,260,12,15.5,164.7,0.47919143876337694,129.30000000000001,125930,3645,2095,27.65,4556,350.5,5.26]
["70Б2",697,260,12.5,18.5,183.6,0.55034324942791757,144.19999999999999,145912,4187,2393,28.19,5437,418.2,5.44]
["80Б1",791,280,13.5,17,203.2,0.44074074074074077,159.5,199500,5044,2917,31.33,6244,446,5.54]
["80Б2",798,280,14,20.5,226.6,0.51341681574239717,177.9,232200,5820,3343,32.01,7527,537.6,5.76]
["90Б1",893,300,15,18.5,247.1,0.40778839088905217,194,304400,6817,3964,35.090000000000003,8365,557.6,5.82]
["90Б2",900,300,15.5,22,272.39999999999998,0.47008547008547019,213.8,349200,7760,4480,35.799999999999997,9943,662.8,6.04]
["100Б1",990,320,16,21,293.82,0.42152803914188935,230.6,446000,9011,5234,38.96,11520,719.9,6.26]
["100Б2",998,320,17,25,328.9,0.47365304914150386,258.2,516400,10350,5980,39.619999999999997,13710,856.9,6.46]
["100Б3",1006,320,18,29,364,0.52017937219730936,285.7,587700,11680,6736,40.18,15900,993.9,6.61]
["100Б4",1013,320,19.5,32.5,400.6,0.53997923156801664,314.5,655400,12940,7470,40.450000000000003,17830,1114.3,6.67]
["-=ТРУБИ=-",1,1,1,1,1,1,1,1,1,1,1,1,1,1]
[{"$f":"\"Гн \" &B87&\"x\"&C87&\"x\"&E87","v":"Гн 40x30x3"},40,30,{"$f":"E87*2","v":6},3,3.7,0.47368421052631576,"2, 9",7.5,3.8,null,1.42,4.8,3.2,1.1399999999999999]
[{"$f":"\"Гн \" &B88&\"x\"&C88&\"x\"&E88","v":"Гн 40x30x4"},40,30,{"$f":"E88*2","v":8},4,4.7,0.52173913043478259,3.7,9,4.4000000000000004,null,1.38,5.6,3.8,1.0900000000000001]
["Гн 45x30x3",45,30,6,3,4,0.40909090909090912,3.1,10.199999999999999,4.5,null,1.6,5.3,3.5,1.1499999999999999]
["Гн 45x30x4",45,30,8,4,5.0999999999999996,0.44444444444444453,4,12.2,5.4,null,1.55,6.6,4.2,1.1399999999999999]
["Гн 50x35x3",50,35,6,3,4.5999999999999996,0.4200000000000001,3.6,14.9,6,null,1.8,8.5,4.8,1.36]
["Гн 50x35x4",50,35,8,4,5.9,0.45161290322580644,4.5999999999999996,18.2,7.3,null,1.76,10.199999999999999,5.8,1.31]
["Гн 60x40x3",60,40,6,3,5.5,0.38709677419354838,4.3,26,8.6,null,2.17,13.7,6.8,1.58]
["Гн 60x40x4",60,40,8,4,7.1,0.41025641025641024,5.5,32.200000000000003,10.7,null,2.13,16.7,8.3000000000000007,1.53]
["Гн 60x40x5",60,40,10,5,8.6,0.43478260869565216,6.7,37.1,12.3,null,2.08,19.100000000000001,9.5,1.49]
["Гн 80x60x4",80,60,8,4,10.3,0.43636363636363634,8.07,90,22.5,null,2.96,57.3,19.100000000000001,2.36]
["Гн 80x60x5",80,60,10,5,12.6,0.45454545454545453,9.8699999999999992,106.6,26.6,null,2.91,67.5,22.5,2.31]
["Гн 80x60x6",80,60,12,6,14.7,0.48,11.57,120.9,30.2,null,2.87,76.2,25.4,2.2799999999999998]
["Гн 100x60x3",100,60,6,3,9.1999999999999993,0.32142857142857151,7.2,123.2,24.6,null,3.66,55.6,18.5,2.46]
["Гн 100x60x4",100,60,8,4,12.2,0.32432432432432434,9.6,157.6,31.5,null,3.59,70.8,23.6,2.41]
["Гн 100x60x5",100,60,10,5,15,0.33333333333333331,11.8,187.8,37.6,null,3.54,83.8,27.9,2.36]
["Гн 100x60x6",100,60,12,6,17.8,0.33962264150943394,14,216.3,43.3,null,3.48,96.2,32.1,2.3199999999999998]
["Гн 120x80x3",120,80,6,3,11.6,0.35294117647058826,9.1,233.4,38.9,null,4.4800000000000004,124.8,31.2,3.27]
["Гн 120x80x4",120,80,8,4,15.3,0.3595505617977528,12,299,49.8,null,4.42,159.69999999999999,39.9,3.23]
["Гн 120x80x5",120,80,10,5,18.899999999999999,0.36697247706422026,14.8,361.4,60.2,null,4.37,192.4,48.1,3.19]
["Гн 120x80x6",120,80,12,6,22.6,0.36923076923076925,17.7,423.2,70.5,null,4.33,224.1,56,3.15]
["Гн 120x80x7",120,80,14,7,26.3,0.37086092715231789,20.6,483.2,80.400000000000006,null,4.28,254.6,63.8,3.1]
["Гн 140x60x4",140,60,8,4,15.3,0.22857142857142856,12,362.1,51.7,null,4.8600000000000003,95.4,31.8,2.5]
["Гн 140x60x5",140,60,10,5,18.899999999999999,0.23255813953488377,14.8,436.1,62.3,null,4.8,113.6,37.9,2.4500000000000002]
["Гн 140x60x6",140,60,12,6,22.6,0.23376623376623376,17.7,509.7,72.8,null,4.75,131.30000000000001,43.8,2.41]
["Гн 140x100x3",140,100,6,3,14.2,0.36585365853658536,11.1,404.2,57.7,null,5.31,241.2,48.2,4.0999999999999996]
["Гн 140x100x4",140,100,8,4,18.5,0.38095238095238093,14.5,511.3,73,null,5.26,304.3,60.9,4.05]
["Гн 140x100x5",140,100,10,5,22.9,0.38759689922480622,18,619.70000000000005,88.5,null,5.2,368,73.599999999999994,4.01]
["Гн 140x100x6",140,100,12,6,27.4,0.38961038961038963,21.5,729.2,104.2,null,5.16,432.4,86.5,3.97]
["Гн 140x100x7",140,100,14,7,32,0.3888888888888889,25.1,839.8,120,null,5.1100000000000003,497.5,99.5,3.92]
["Гн 160x80x3",160,80,6,3,13.9,0.26373626373626374,10.9,455,56.9,null,5.7,155.19999999999999,38.799999999999997,3.34]
["Гн 160x80x4",160,80,8,4,18.5,0.26446280991735538,14.5,606.70000000000005,75.8,null,5.73,206.9,51.7,3.34]
["Гн 160x80x5",160,80,10,5,22.9,0.26845637583892618,18,735.9,92,null,5.67,248.7,62.2,3.29]
["Гн 160x80x6",160,80,12,6,27.4,0.2696629213483146,21.5,864.7,108.1,null,5.62,280.7,72.7,3.26]
["Гн 160x120x4",160,120,8,4,21.6,0.4,17,799.2,99.9,null,6.08,514,85.7,4.88]
["Гн 160x120x5",160,120,10,5,26.9,0.40268456375838924,21.1,978.2,122.3,null,6.03,628.4,104.7,4.83]
["Гн 160x120x6",160,120,12,6,32.1,0.40677966101694918,25.2,1150.5,143.80000000000001,null,5.99,736.9,122.8,4.79]
["Гн 160x120x7",160,120,14,7,37.200000000000003,0.41176470588235287,29.2,1307.4000000000001,163.4,null,5.93,836.6,139.4,4.74]
["Гн 160x120x8",160,120,16,8,42.3,0.41558441558441561,33.200000000000003,1461,182.6,null,5.88,932.5,155.4,4.6900000000000004]
["Гн 180x60x5",180,60,10,5,22.9,0.17751479289940827,18,833.8,92.6,null,6.03,144.69999999999999,48.2,2.5099999999999998]
["Гн 180x60x6",180,60,12,6,27.4,0.17821782178217821,21.5,978.5,108.7,null,5.97,166.5,55.5,2.46]
["Гн 180x100x5",180,100,10,5,26.9,0.29585798816568049,21.1,1143,127,null,6.52,459.6,91.9,4.13]
["Гн 180x100x6",180,100,12,6,32.1,0.29850746268656714,25.2,1344,149.4,null,6.47,537.79999999999995,107.6,4.09]
["Гн 180x100x7",180,100,14,7,37.200000000000003,0.30172413793103442,29.2,1527,169.8,null,6.41,607.9,121.6,4.04]
["Гн 180x100x8",180,100,16,8,42.3,0.30418250950570341,33.200000000000003,1706,189.6,null,6.35,676,135.19999999999999,4]
["Гн 180x140x4",180,140,8,4,24.6,0.41791044776119401,19.3,1165,128.19999999999999,null,6.91,782.4,111.8,5.7]
["Гн 180x140x5",180,140,10,5,30.7,0.41916167664670656,24.1,1443,160.30000000000001,null,6.85,981.2,140.19999999999999,5.65]
["Гн 180x140x6",180,140,12,6,36.799999999999997,0.4200000000000001,28.9,1706,189.6,null,6.81,1159,165.6,5.61]
["Гн 180x140x7",180,140,14,7,42.8,{"$f":"(C134*E134)/(100*F134-2*C134*E134)","v":0.42241379310344829},33.6,1952,216.9,null,6.75,1323,189,5.56]
["Гн 180x140x8",180,140,16,8,48.7,0.42585551330798477,38.200000000000003,2187,243,null,6.7,1481,211.5,5.51]
["Гн 200x120x4",200,120,8,4,27.7,0.26519337016574585,21.8,1631,163.19999999999999,null,7.68,1160,145,6.47]
["Гн 200x120x5",200,120,10,5,34.6,0.26548672566371684,27.2,2039,204,null,7.67,1450,181.2,6.46]
["Гн 200x120x6",200,120,12,6,41.4,0.26666666666666666,32.5,2412,241.2,null,7.63,1712,214,6.43]
["Гн 200x160x7",200,160,14,7,48.2,0.43410852713178294,37.799999999999997,2767,276.7,null,7.58,1962,245.2,6.38]
["Гн 200x160x8",200,160,16,8,54.8,0.43835616438356162,43,3104,310.39999999999998,null,7.53,2199,274.89999999999998,6.33]
["Гн 200x160x9",200,160,18,9,61.3,0.44307692307692309,48.1,3424,342.3,null,7.48,2436,303.3,6.28]
["Гн 200x160x10",200,160,20,10,67.7,0.44817927170868349,53.1,3726,372.4,null,7.43,2212,330.4,6.23]
["Гн 300x200x8",300,200,16,8,75.8,0.36529680365296802,59.5,9512,634,null,11.2,5069,510,8.1999999999999993]
["Гн 300x200x9",300,200,18,9,84.7,0.36960985626283366,66.5,10527,702,null,11.15,5630,563,8.15]
["Гн 300x200x10",300,200,20,10,93.4,0.37453183520599254,73.3,11505,767,null,11.1,6143,614,8.11]
["Гн 300x200x11",300,200,22,11,102,0.37931034482758619,80.099999999999994,12446,830,null,11.05,6634,663,8.06]
["Гн 300x200x12",300,200,24,12,111,0.38095238095238093,86.8,13351,890,null,11,7104,710,8.01]
["Гн 300x200x13",300,200,26,13,119,0.38805970149253732,93.4,12482,945,null,10.95,7553,755,7.96]
["Гн 300x200x14",300,200,28,14,127,0.39436619718309857,99.8,15054,1004,null,10.9,7983,798,7.92]
["Гн 320x180x8",320,180,16,8,75.8,0.30638297872340425,59.5,10341,646,null,11.7,4248,472,7.49]
["Гн 320x180x10",320,180,20,10,93.4,0.31358885017421601,73.3,12506,782,null,11.6,5111,568,7.4]
[{"$f":"\"Гн \" &B152&\"x\"&C152&\"x\"&E152","v":"Гн 320x180x12"},320,180,{"$f":"E152*2","v":24},12,111,0.31858407079646017,86.8,14511,907,null,11.5,5899,655,7.31]
["Гн 320x180x14",320,180,28,14,127,0.32898172323759789,99.8,16359,1022,null,11.3,6617,735,7.21]
["Гн 340x160x9",340,160,18,9,84.7,0.25760286225402507,66.5,12306,724,null,12.1,3793,474,6.69]
["Гн 340x160x10",340,160,20,10,93.4,0.26058631921824105,73.3,13446,791,null,12,4130,516,6.65]
["Гн 340x160x12",340,160,24,12,111,0.26446280991735538,86.8,15596,917,null,11.9,4755,594,6.56]
["Гн 340x160x14",340,160,28,14,127,0.27250608272506083,99.8,17576,1034,null,11.8,5319,655,6.47]
["Гн 340x260x10",340,260,20,10,113,0.42622950819672129,89,18892,1111,null,12.9,12510,962,10.5]
["Гн 340x260x12",340,260,24,12,135,0.42975206611570249,106,22054,1297,null,12.8,14577,1121,10.4]
["Гн 340x260x14",340,260,28,14,155,0.44282238442822386,122,25020,1472,null,12.7,16508,1269,10.3]
["Гн 380x220x10",380,220,20,10,113,0.3188405797101449,89,21925,1154,null,13.9,9416,856,9.11]
["Гн 380x220x12",380,220,24,12,135,0.32116788321167883,106,25594,1347,null,13.8,10948,995,9.02]
["Гн 380x220x14",380,220,28,14,155,0.32976445396145609,122,29037,1528,null,13.7,12370,1125,8.93]
["Гн 400x200x10",400,200,20,10,113,0.27397260273972601,89,23345,1167,null,14.3,7949,795,8.3699999999999992]
["Гн 400x200x12",400,200,24,12,135,0.27586206896551724,10.6,27248,1362,null,14.2,9227,923,8.2799999999999994]
["Гн 400x200x14",400,200,28,14,155,0.28282828282828282,122,30907,1545,null,14.1,10409,1041,8.19]

{"sheet":"Фи","index":2,"n_rows":23,"n_cols":28,"rows_kept":23,"cut":false,"hidden":false,"merged":[]}
[]
[null,null,0.1,0.25,0.5,0.75,1,1.25,1.5,1.75,2,2.5,3,3.5,4,4.5,5,5.5,6,6.5,7,8,9,10,12,14,17,20]
[null,0.5,967,922,850,782,722,669,620,577,538,469,417,370,337,307,280,260,237,222,210,183,164,150,125,106,90,77]
[null,1,925,854,778,711,653,600,563,520,484,427,382,341,307,283,259,240,225,209,196,175,157,142,121,103,86,74]
[null,1.5,875,804,716,647,593,548,507,470,439,388,347,312,283,262,240,223,207,195,182,163,148,134,114,99,82,70]
[null,2,813,742,653,587,536,496,457,425,397,352,315,286,260,240,222,206,193,182,170,153,138,125,107,94,79,67]
[null,2.5,742,672,587,526,480,442,410,383,357,317,287,262,238,220,204,190,178,168,158,144,130,118,101,90,76,65]
[null,3,667,597,520,465,425,395,365,342,320,287,260,238,217,202,187,175,166,156,147,135,123,112,97,86,73,63]
[null,3.5,587,522,455,408,375,350,325,303,287,258,233,216,198,183,172,162,153,145,137,125,115,106,92,82,69,60]
[null,4,505,447,394,356,330,309,289,270,256,232,212,197,181,168,158,149,140,135,127,118,108,98,88,78,66,57]
[null,4.5,418,382,342,310,288,272,257,242,229,208,192,178,165,155,146,137,130,125,118,110,101,93,83,75,64,55]
[null,5,354,326,295,273,253,239,225,215,205,188,175,162,150,143,135,126,120,117,111,103,95,88,79,72,62,53]
[null,5.5,302,280,256,240,224,212,200,192,184,170,158,148,138,132,124,117,112,108,104,95,89,84,75,69,60,51]
[null,6,258,244,223,210,198,190,178,172,166,153,145,137,128,120,115,109,104,100,96,89,84,79,72,66,57,49]
[null,6.5,223,213,196,185,176,170,160,155,149,140,132,125,117,112,106,101,97,94,89,83,80,74,68,62,54,47]
[null,7,194,186,173,163,157,152,145,141,136,127,121,115,108,102,98,94,91,87,83,78,74,70,64,59,52,45]
[null,8,152,146,138,133,128,121,117,115,113,106,100,95,91,87,83,81,78,76,74,68,65,62,57,53,47,41]
[null,9,122,117,112,107,103,100,98,96,93,88,85,82,79,75,72,69,66,65,64,61,58,55,51,48,43,38]
[null,10,100,97,93,91,90,85,81,80,79,75,72,70,69,65,62,60,59,58,57,55,52,49,46,43,39,35]
[null,11,83,79,77,76,75,73,71,69,68,63,62,61,60,57,55,53,52,51,50,48,46,44,40,38,35,32]
[null,12,69,67,64,63,62,60,59,59,58,55,54,53,52,51,50,49,48,47,46,44,42,40,37,35,32,29]
[null,13,62,61,54,53,52,51,51,50,49,49,48,48,47,45,44,43,42,41,41,39,38,37,35,33,30,27]
[null,14,52,49,49,48,48,47,47,46,45,44,43,43,42,41,40,40,39,39,38,37,36,36,34,32,29,26]

{"sheet":"Рама","index":3,"n_rows":54,"n_cols":7,"rows_kept":54,"cut":false,"hidden":false,"merged":[[50,1,51,1],[50,3,50,5],[52,0,53,0],[52,1,53,1],[52,3,52,5],[48,0,51,0],[48,1,49,1],[48,3,48,5],[40,0,43,0],[40,1,41,1],[40,3,40,5],[42,1,43,1],[42,3,42,5],[44,0,47,0],[44,1,45,1],[44,3,44,5],[46,1,47,1],[46,3,46,5],[30,1,31,1],[30,2,31,2],[30,3,31,3],[30,4,31,4],[30,5,31,5],[36,0,39,0],[36,1,37,1],[36,3,36,5],[38,1,39,1],[38,3,38,5]]}
["Постійне"]
[]
["Склад покрівлі","Q0  (Па)","γfm","Qm  (Па)"]
["Захисна гравійна посипка",300,1.3,{"$f":"B4*C4","v":390}]
["Гідроізоляція (3 шари гідроізолу)",150,1.3,{"$f":"B5*C5","v":195}]
["Стяжка з цементного розчину товщиною 20 мм",320,1.3,416]
["Утеплювач з ніздрюватого бетону середньою густиною  ρ=300 кг/м3  та товщиною 100 мм",300,1.2,360]
["Пароізоляція з одного шару руберойду",50,1.3,65]
["Ребриста залізобетонна плита 3х6 м",1600,1.1000000000000001,1760.0000000000002]
["Кроквяна ферма з в’язями",300,1.05,315]
["У с ь о г о",{"$f":"SUM(B4:B10)","v":3020},"––",{"$f":"SUM(D4:D10)","v":3501}]
[]
[]
["Аеродинамічний",0.5,1,null,0.77]
[1,0.4,0.5,null,{"$f":"B15+(C15-B15)/($C$14-$B$14)*($E$14-$B$14)","v":0.45400000000000001}]
[2,0.5,0.6,null,{"$f":"B16+(C16-B16)/($C$14-$B$14)*($E$14-$B$14)","v":0.55400000000000005}]
[]
[1.75,null,null,null,{"$f":"E15+(E16-E15)/($A$16-$A$15)*($A$18-$A$15)","v":0.52900000000000003}]
[]
[]
["Розрахунок рами","q","N","Mлів","Qлів","Mправ","Qправ"]
["Постійне",21,{"$f":"B22*B28/2","v":252},0,null,0]
["Сніг",8.36,{"$f":"B23*B28/2","v":100.32},0,null,0]
["Вітер",1.43,0,{"$f":"B27^2*(5*B24+3*B25)/16+B26*B27/2","v":178.53440000000001},null,{"$f":"B27^2*(3*B24+5*B25)/16+B26*B27/2","v":170.13760000000002}]
[null,1.02]
[null,11.56]
["H=",12.8]
["L=",24]
[]
[]
["Навантаження","ψ","Характер даних","M, кН·м","N,  кН","Q,  кН"]
["та комбінації зусиль"]
["1. Постійне",1,"зусилля",0,{"$f":"C22","v":252}]
["2. Снігове",1,"зусилля",0,{"$f":"C23","v":100.32}]
["3. Вітер зліва",1,"зусилля",{"$f":"-D24","v":-178.53440000000001},0]
["4. Вітер справа",1,"зусилля",{"$f":"F24","v":170.13760000000002},0]
["+Mmax  і  N",1,"номери ","1, 4"]
[null,null,"зусилля",{"$f":"D33+D36","v":170.13760000000002},{"$f":"E33+E36","v":252}]
[null,0.9,"номери ","1, 2, 4"]
[null,null,"зусилля",{"$f":"0.9*(D33+D34+D36)","v":153.12384000000003},{"$f":"0.9*(E33+E34+E36)","v":317.08800000000002}]
["–Mmax  і  N",1,"номери ","1, 3"]
[null,null,"зусилля",{"$f":"D33+D35","v":-178.53440000000001},{"$f":"E33+E35","v":252}]
[null,0.9,"номери ","1, 2, 3"]
[null,null,"зусилля",{"$f":"0.9*(D33+D34+D35)","v":-160.68096},{"$f":"0.9*(E33+E34+E35)","v":317.08800000000002}]
["Nmax  і  +M",1,"номери ","1, 2"]
[null,null,"зусилля",{"$f":"D33+D34","v":0},{"$f":"E33+E34","v":352.32}]
[null,0.9,"номери ","1, 2, 4"]
[null,null,"зусилля",{"$f":"0.9*(D33+D34+D36)","v":153.12384000000003},{"$f":"0.9*(E33+E34+E36)","v":317.08800000000002}]
["Nmax  і  –M",1,"номери ","1, 2"]
[null,null,"зусилля",{"$f":"D33+D340","v":0},{"$f":"E33+E340","v":252}]
[null,0.9,"номери ","1, 2, 3"]
[null,null,"зусилля",{"$f":"0.9*(D33+D34+D35)","v":-160.68096},{"$f":"0.9*(E33+E34+E35)","v":317.08800000000002}]
["Nmin  і  ±M",1,"номери ","1, 3"]
[null,null,"зусилля",{"$f":"D33/1.16/1.16+D35","v":-178.53440000000001},{"$f":"E33/1.16/1.16+E35","v":187.27705112960766}]

{"sheet":"Колона","index":4,"n_rows":21,"n_cols":7,"rows_kept":21,"cut":false,"hidden":false,"merged":[]}
["Зусилля","N","M",null,"Траверси"]
["Розрахункова",277,196,null,"Ширина колони",49]
["Анкерні",187,178,null,"Висота траверси",50,{"$f":"F3-2","v":48}]
["Ry ",23,1,null,"Катет по шву і межі сплавлення",{"$f":"SQRT((B2+200*C2/F2)^2+(600*C2/G3)^2)/(4*C7*G3*B7*C4)","v":1.1062630098893493},{"$f":"SQRT((B2+200*C2/F2)^2+(600*C2/G3)^2)/(4*C8*G3*B8*C4)","v":0.86042678546949392}]
[]
["Характеристики швів",null,null,null,"Анкери"]
["По металу шва",18,0.7,null,"Напруження в бетоні",{"$f":"B3/B17/C17+600*C3/B17/C17^2","v":0.61168367346938779},{"$f":"B3/B17/C17-600*C3/B17/C17^2","v":-0.47811224489795917}]
["По межі сплавлення",16.2,1,null,"Стиснута зона",{"$f":"C17*F7/(F7-G7)","v":39.289794007490642},{"$f":"C17/2-F8/3","v":21.903401997503117}]
[null,null,null,null,"Відстань до анкера",10,{"$f":"G8+C17/2+F9","v":66.903401997503124}]
["Ребро оголовка               N=",349.5,null,null,"Зусилля в анкерах",{"$f":"(100*C3-G8*B3)/G9","v":204.83358719155061}]
["Висота",30,null,null,"Rba  і площа болтів",26.5,{"$f":"1.05*F10/F11","v":8.1160477943821938}]
["Ширина",18]
["Товщина зминання і стійкість",{"$f":"1.2*B2/(B4*C4*B12)","v":0.80289855072463767},{"$f":"B12*SQRT(B4/20600)","v":0.60145454758903771},null,"Плече і момент в плитці",10,{"$f":"F13*F10/2","v":1024.1679359577531}]
["Катет по шву і межі сплавлення",{"$f":"B2/(4*B7*C4*C7*(B11-2))","v":0.19628684807256236},{"$f":"B2/(4*B8*C4*C8*(B11-2))","v":0.15266754850088185},null,"Ширина і товщина плитки",18,{"$f":"SQRT(6*G13/(C4*F14*B21))","v":3.9392506900881412}]
[]
["База"]
["Ширина і довжина",40,70]
["Напруження в бетоні",{"$f":"B2/B17/C17+600*C2/B17/C17^2","v":0.69892857142857134}]
["Виліт і момент в консолі",10.3,{"$f":"0.5*B18*B19^2","v":37.074666071428574}]
["Проліт і момент на 4 сторони",9.6,{"$f":"0.125*B18*B20^2","v":8.0516571428571417}]
["Ry  і товщина",22,{"$f":"SQRT(6*MAX(C19:C20)/(B21*C4))","v":3.1798227253944624}]

{"sheet":"Ферма","index":5,"n_rows":29,"n_cols":38,"rows_kept":29,"cut":false,"hidden":false,"merged":[[2,24,4,24],[2,25,4,25],[10,0,13,0],[14,0,18,0],[3,12,4,12],[3,13,4,13],[2,12,2,14],[2,15,2,17],[2,18,2,21],[2,22,4,22],[2,23,4,23],[3,14,4,14],[3,15,4,15],[3,16,4,16],[3,17,4,17],[19,0,23,0],[2,7,4,7],[2,8,4,8],[2,11,4,11],[3,0,4,0],[3,1,4,1],[3,2,4,2],[3,3,3,5],[3,6,4,6],[5,0,9,0],[2,9,4,9],[2,10,4,10],[3,35,3,37],[14,28,18,28],[19,28,23,28],[10,7,13,7],[14,7,18,7],[19,7,23,7],[3,28,4,28],[3,29,4,29],[3,31,4,31],[2,26,4,26],[3,18,4,18],[3,19,4,19],[3,20,4,20],[3,21,4,21],[5,7,9,7],[3,33,3,34]]}
[]
[null,null,null,null,null,null,null,"Квадратні труби - крива стійкості А"]
["Навантаження у вузол",null,null,null,6.2,13.3,null,"Елементи ферми","Стержні ферми","N,       кН","Тип перерізу","Переріз","Характеристики",null,null,"Довжини",null,null,"Гнучкості",null,null,null,"φ","γc","Ry,     кН/см2","Пере-вірка","nпр"]
["Елементи ферми","Стержні ферми","Довжини стержнів","Зусилля від навантажень   (кН)",null,null,"Розрах зусилля  (кН)",null,null,null,null,null,"A,     см2","ix,       см","iy","l","lx","ly","λx","λy",null,"[λ]",null,null,null,null,null,null,"Елементи ферми","Стержні ґратки","N","Переріз",null,"Кутові шви",null,"Стикові шви"]
[null,null,null,"одиничного","постійного","снігового",null,null,null,null,null,null,null,null,null,null,null,null,null,null,null,null,null,null,null,null,null,null,null,null,"кН",null,"lw","kfo","1,2 t","kfп","Nwп","lwп"]
["Верхній пояс","1–2",2100,0,{"$f":"D6*E$3","v":0},{"$f":"D6*F$3","v":0},{"$f":"E6+F6","v":0},"Верхній пояс",{"$f":"B6","v":"1–2"},{"$f":"G6","v":0},"Рівнополичні","L45x3",5.3000001907348633,1.3899999856948853,2.1278977394104004,{"$f":"C6/10","v":210},{"$f":"P6","v":210},{"$f":"P6","v":210},{"$f":"Q6/N6","v":151.0791382454708},{"$f":"R6/O6","v":98.688953003064412},{"$f":"MAX(S6,T6)*SQRT(Y6/20600)","v":5.1567551338302238},{"$f":"180-60*MAX(0.5,Z6)","v":150},{"$f":"IF(J6<0,MIN(0.5*(9.87*(1-$M$28+$N$28*U6)+U6^2-SQRT((9.87*(1-$M$28+$N$28*U6)+U6^2)^2-39.48*U6^2))/U6^2,7.6/U6^2),1)","v":1},1,24,{"$f":"ABS(-J6/(M6*W6*Y6*X6))","v":0}]
[null,"2–3",2800,-5.62,{"$f":"D7*E$3","v":-34.844000000000001},{"$f":"D7*F$3","v":-74.746000000000009},{"$f":"E7+F7","v":-109.59},null,"2–3",-109.59,null,null,4.2800002098083496,4.809999942779541,1.5,280,{"$f":"P7","v":280},{"$f":"P7","v":280},{"$f":"Q7/N7","v":58.212058904557324},186.66666666666666,{"$f":"MAX(S7,T7)*SQRT(Y7/20600)","v":6.3714573886720327},{"$f":"180-60*MAX(0.5,Z7)","v":-161.92520733232254},0.1872130102040816,1,24,{"$f":"ABS(-J7/(M7*W7*Y7*X7))","v":5.6987534555387089},null,null,null,null,null,"Rwf",18]
[null,"3–4",2800,-5.62,{"$f":"D8*E$3","v":-34.844000000000001},-74.746000000000009,{"$f":"E8+F8","v":-109.59},null,"3–4",-109.59,null,null,3.0799999237060547,2.440000057220459,1.0900000333786011,280,{"$f":"P8","v":280},{"$f":"P8","v":280},{"$f":"Q8/N8","v":114.75409566955655},{"$f":"R8/O8","v":256.88072607860619},{"$f":"MAX(S8,T8)*SQRT(Y8/20600)","v":8.7680603581123489},-719.81597484629788,9.8856796020484361E-2,1,24,14.996932914104965,null,null,null,null,null,"Bf",0.7]
[null,"4–5",2800,-7.5,{"$f":"D9*E$3","v":-46.5},-99.75,{"$f":"E9+F9","v":-146.25},null,"4–5",-146.25,null,null,16.5,3.3199999332427979,2.4700000286102295,280,{"$f":"P9","v":280},{"$f":"P9","v":280},{"$f":"Q9/N9","v":84.337351093411328},{"$f":"R9/O9","v":113.36032257357698},{"$f":"MAX(S9,T9)*SQRT(Y9/20600)","v":3.8693060616624755},127.2240333743931,0.41987086785709993,1,24,0.87959944376011501]
[null,null,null,null,null,null,null,null,0,0,null,null,4,1.1499999761581421,1.6000000238418579,0,0,0,0,0,0,150,1,1,24,0]
["Нижній пояс","6–7",5600,3.28,{"$f":"D11*E$3","v":20.335999999999999},{"$f":"D11*F$3","v":43.624000000000002},63.96,"Нижній пояс","6–7",63.96,"Вузькими разом","Вузьк. Раз. L50x32x3",4.8400001525878906,0.9100000262260437,2.560023307800293,560,560,560,615.38459764933702,218.74800838480706,21.004803972684826,400,1,1,24,0.5506198173516702,null,null,null,{"$f":"I11","v":"6–7"},{"$f":"J11","v":63.96},{"$f":"L11","v":"Вузьк. Раз. L50x32x3"},38,{"$f":"AE11/($AG$7*$AG$8*AG11)","v":0.13358395989974936},3]
[null,"7–8",5600,7.03,{"$f":"D12*E$3","v":43.586000000000006},93.499000000000009,{"$f":"E12+F12","v":137.08500000000001},null,"7–8",137.08500000000001,"Таври балкові","6БТ1",5.5199999809265137,1.7100000381469727,1.4199999570846558,560,{"$f":"P12","v":560},560,{"$f":"Q12/N12","v":327.4853728113593},394.36620910166312,13.46082587583949,400,1,1,24,1.0347599673435652,null,null,null,{"$f":"I12","v":"7–8"},{"$f":"J12","v":137.08500000000001},"6БТ1",38,{"$f":"AE12/($AG$7*$AG$8*AG12)","v":0.28630952380952385},3]
[null,null,null,null,null,null,null,null,0,0,null,null,null,null,null,0,{"$f":"P13","v":0},0,{"$f":"Q13/N13","v":{"$error":"#DIV/0!"}},{"$error":"#DIV/0!"},{"$error":"#DIV/0!"},400,1,1,24,{"$error":"#DIV/0!"}]
[null,null,null,null,null,null,null,null,0,0,null,null,3.0799999237060547,1.0900000333786011,1.0900000333786011,0,0,0,0,0,0,400,1,1,24,0]
["Розкоси","2–6",3500,-4.8,{"$f":"D15*E$3","v":-29.759999999999998},-63.84,-93.6,"Розкоси","2–6",-93.6,null,null,14.779999732971191,2.309999942779541,3.3474647998809814,350,350,{"$f":"P15","v":350},151.51515526829729,104.55673798644401,5.1716376189106237,{"$f":"180-60*MAX(0.5,Z15)","v":122.18410292358558},0.27383828272126615,1,24,0.96359828460690677,{"$f":"R15/(40*N15)-1","v":2.787878881707432},null,"Розкоси",{"$f":"I15","v":"2–6"},-93.6,{"$f":"L15","v":0},44,{"$f":"AE15/($AG$7*$AG$8*AG15)","v":-0.16883116883116883},3]
[null,"2–7",3960,3.43,{"$f":"D16*E$3","v":21.266000000000002},{"$f":"D16*F$3","v":45.619000000000007},66.885000000000005,null,"2–7",66.885000000000005,null,null,4.5999999999999996,1.36,1.8,396,{"$f":"$M$29*P16","v":316.8},{"$f":"$N$29*P16","v":396},232.94117647058823,220,7.9509363211579567,400,1,1,24,0.60584239130434792,{"$f":"R16/(40*N16)-1","v":6.2794117647058814},null,null,"2–7",66.885000000000005,{"$f":"L16","v":0},19,{"$f":"AE16/($AG$7*$AG$8*AG16)","v":0.27938596491228074},3]
[null,"4–7",3960,-2.06,{"$f":"D17*E$3","v":-12.772},{"$f":"D17*F$3","v":-27.398000000000003},{"$f":"E17+F17","v":-40.17},null,"4–7",-40.17,null,null,8.0799999237060547,1.1299999952316284,3.1538832187652588,396,{"$f":"$M$29*P17","v":316.8},396,{"$f":"Q17/N17","v":280.35398348392209},125.55949999792114,9.5692685331014591,{"$f":"210-60*MAX(0.5,Z17)","v":60.24739862392309},8.2995798649317734E-2,1,24,2.4958766896012818,{"$f":"R17/(40*N17)-1","v":7.7610619838725654},null,null,"4–7",-40.17,{"$f":"L17","v":0},28,-0.11386054421768707,3]
[null,"4–8",3960,0.69,{"$f":"D18*E$3","v":4.2779999999999996},{"$f":"D18*F$3","v":9.1769999999999996},{"$f":"E18+F18","v":13.454999999999998},null,"4–8",13.454999999999998,null,null,4.5999999999999996,1.36,1.8,396,316.8,396,{"$f":"Q18/N18","v":232.94117647058823},220,7.9509363211579567,400,1,1,24,0.121875,{"$f":"R18/(40*N18)-1","v":6.2794117647058814},null,null,"4–8",13.454999999999998,{"$f":"L18","v":0},19,5.6203007518796984E-2,3]
[null,null,null,null,null,null,null,null,0,0,null,null,6.16,1.22,1.88,0,0,0,0,0,0,{"$f":"210-60*MAX(0.5,Z19)","v":180},1,1,24,0,-1]
["Стійки","1–6",2800,-0.5,{"$f":"D20*E$3","v":-3.1},{"$f":"D20*F$3","v":-6.65},-9.75,"Стійки","1–6",-9.75,null,null,5.48,1.91,1.91,280,224,280,117.27748691099477,146.59685863874347,5.0037623471246331,180,0.28858298917594349,1,24,0.25688697691614293,2.6649214659685869,null,"Стійки",{"$f":"I20","v":"1–6"},-9.75,0,24,-3.2242063492063495E-2,3]
[null,"3–7",2800,-1,{"$f":"D21*E$3","v":-6.2},{"$f":"D21*F$3","v":-13.3},{"$f":"E21+F21","v":-19.5},null,"3–7",-19.5,null,null,5.48,1.91,1.91,280,224,280,{"$f":"Q21/N21","v":117.27748691099477},146.59685863874347,5.0037623471246331,179.17356277006286,0.28858298917594349,1,24,0.51377395383228586,{"$f":"R21/(40*N21)-1","v":2.6649214659685869},null,null,"3–7",-19.5,0,24,-6.4484126984126991E-2,3]
[null,"5–8",2800,-1,{"$f":"D22*E$3","v":-6.2},{"$f":"D22*F$3","v":-13.3},{"$f":"E22+F22","v":-19.5},null,"5–8",-19.5,null,null,5.48,1.91,1.91,280,224,280,{"$f":"Q22/N22","v":117.27748691099477},146.59685863874347,5.0037623471246331,179.17356277006286,0.28858298917594349,1,24,0.51377395383228586,{"$f":"R22/(40*N22)-1","v":2.6649214659685869},null,null,"5–8",-19.5,0,24,-6.4484126984126991E-2,3]
[null,null,null,null,null,null,null,null,0,0,null,null,null,null,null,0,0,0,{"$f":"Q23/N23","v":{"$error":"#DIV/0!"}},{"$error":"#DIV/0!"},{"$error":"#DIV/0!"},{"$error":"#DIV/0!"},1,1,24,{"$error":"#DIV/0!"},{"$f":"R23/(40*N23)-1","v":{"$error":"#DIV/0!"}}]
[null,null,null,null,null,null,null,null,0,0,null,null,null,null,null,0,0,0,{"$error":"#DIV/0!"},{"$error":"#DIV/0!"},{"$error":"#DIV/0!"},{"$error":"#DIV/0!"},1,1,24,{"$error":"#DIV/0!"},{"$error":"#DIV/0!"}]
[]
[]
[null,null,null,null,null,null,null,null,null,null,null,"товщина фасонки",8]
[null,null,null,null,null,null,null,null,"+",null,null,"Коефіцієнти для фі",0.04,0.14000000000000001]
[null,null,null,null,null,null,null,null,null,null,null,"Розрахункова довжина розкоса",0.8,1]

{"sheet":"Сортамент труби","index":6,"n_rows":245,"n_cols":12,"rows_kept":245,"cut":false,"hidden":true,"merged":[]}
[null,"A",null,null,null,null,"A 2 уг",null,null,"А","Z","Іу вл"]
["Назва","см2","iх","iу",null,"Назва","см2","iх","iу"]
["мм",null,"см3","см",null,"мм",null,"см3","см"]
["Квадратні",null,null,null,null,"Широкими разом"]
["□30x3","3.08","1.09","1.09",null,"Шир раз L40x25x3","3.78",1.27,{"$f":"SQRT(2*(L5+J5/2*(K5+Ферма!$M$27/20)^2)/J5)","v":1.213327446348879},3.78,0.59,0.93]
["□35x3","3.68","1.29","1.29",null,"Шир раз L50x32x3","4.84",1.6,{"$f":"SQRT(2*(L6+J6/2*(K6+Ферма!$M$27/20)^2)/J6)","v":1.4410808615711947},4.84,0.72,1.99]
["□30x4","3.88","1.04","1.04",null,"Шир раз L40x25x4","4.94",1.26,{"$f":"SQRT(2*(L7+J7/2*(K7+Ферма!$M$27/20)^2)/J7)","v":1.2404163790930316},4.9400000000000004,0.63,1.18]
["□40x3","4.28","1.5","1.5",null,"Шир раз L50x32x4","6.34",1.59,{"$f":"SQRT(2*(L8+J8/2*(K8+Ферма!$M$27/20)^2)/J8)","v":1.4673687259574471},6.34,0.76,2.56]
["□35x4","4.68","1.25","1.25",null,"Шир раз L63x40x4","8.08",2.0099999999999998,{"$f":"SQRT(2*(L9+J9/2*(K9+Ферма!$M$27/20)^2)/J9)","v":1.7301236148819763},8.08,0.91,5.16]
["□45x3","4.88","1.7","1.7",null,"Шир раз L63x40x5","9.96",2,{"$f":"SQRT(2*(L10+J10/2*(K10+Ферма!$M$27/20)^2)/J10)","v":1.754858430885466},9.9600000000000009,0.95,6.26]
["□40x4","5.48","1.45","1.45",null,"Шир раз L63x40x6","11.8",1.99,{"$f":"SQRT(2*(L11+J11/2*(K11+Ферма!$M$27/20)^2)/J11)","v":1.7104365584081109},11.8,0.9,7.29]
["□50x3","5.48","1.91","1.91",null,"Шир раз L75x50x5","12.22",2.39,{"$f":"SQRT(2*(L12+J12/2*(K12+Ферма!$M$27/20)^2)/J12)","v":2.1226908701641487},12.22,1.17,12.47]
["□35x5","5.57","1.2","1.2",null,"Шир раз L80x50x5","12.72",2.56,{"$f":"SQRT(2*(L13+J13/2*(K13+Ферма!$M$27/20)^2)/J13)","v":2.0819727884446277},12.72,1.1299999999999999,12.68]
["□45x4","6.28","1.66","1.66",null,"Шир раз L75x50x6","14.5",2.38,{"$f":"SQRT(2*(L14+J14/2*(K14+Ферма!$M$27/20)^2)/J14)","v":2.1461344560507563},14.5,1.21,14.6]
["□40x5","6.57","1.41","1.41",null,"Шир раз L80x50x6","15.1",2.5499999999999998,{"$f":"SQRT(2*(L15+J15/2*(K15+Ферма!$M$27/20)^2)/J15)","v":2.1051810889371354},15.1,1.17,14.85]
["□50x4","7.08","1.86","1.86",null,"Шир раз L63x40x8","15.36",1.96,{"$f":"SQRT(2*(L16+J16/2*(K16+Ферма!$M$27/20)^2)/J16)","v":1.830930432867399},15.36,1.07,9.15]
["□45x5","7.57","1.61","1.61",null,"Шир раз L90x56x5","15.72",2.88,{"$f":"SQRT(2*(L17+J17/2*(K17+Ферма!$M$27/20)^2)/J17)","v":2.2930644407129268},15.72,1.26,19.670000000000002]
["□50x5","8.57","1.81","1.81",null,"Шир раз L75x50x7","16.74",2.36,{"$f":"SQRT(2*(L18+J18/2*(K18+Ферма!$M$27/20)^2)/J18)","v":2.1695548712367358},16.739999999999998,1.25,16.61]
["□60x4","8.68","2.27","2.27",null,"Шир раз L90x56x6","17.08",2.88,{"$f":"SQRT(2*(L19+J19/2*(K19+Ферма!$M$27/20)^2)/J19)","v":2.3037312164322477},17.079999999999998,1.28,21.22]
["□80x3","9.2","3.12","3.12",null,"Шир раз L75x50x8","18.94",2.35,{"$f":"SQRT(2*(L20+J20/2*(K20+Ферма!$M$27/20)^2)/J20)","v":2.1935700169400989},18.940000000000001,1.29,18.52]
["□70x4","10.3","2.67","2.67",null,"Шир раз L100x63x6","19.16",3.2,{"$f":"SQRT(2*(L21+J21/2*(K21+Ферма!$M$27/20)^2)/J21)","v":2.5503856190477374},19.16,1.42,30.58]
["□60x5","10.6","2.22","2.22",null,"Шир раз L100x63x7","22.18",3.19,{"$f":"SQRT(2*(L22+J22/2*(K22+Ферма!$M$27/20)^2)/J22)","v":2.571904873803033},22.18,1.46,34.99]
["□100x3","11.6","3.94","3.94",null,"Шир раз L90x56x8","22.36",2.85,{"$f":"SQRT(2*(L23+J23/2*(K23+Ферма!$M$27/20)^2)/J23)","v":2.3494217307018546},22.36,1.36,27.08]
["□80x4","12.2","3.07","3.07",null,"Шир раз L110x70x6","22.9",3.53,{"$f":"SQRT(2*(L24+J24/2*(K24+Ферма!$M$27/20)^2)/J24)","v":2.8113708601920733},22.9,1.58,45.61]
["□60x6","12.3","2.18","2.18",null,"Шир раз L100x63x8","25.14",3.18,{"$f":"SQRT(2*(L25+J25/2*(K25+Ферма!$M$27/20)^2)/J25)","v":2.5940955537997126},25.14,1.5,39.21]
["□70x5","12.6","2.63","2.63",null,"Шир раз L110x70x8","27.86",3.51,{"$f":"SQRT(2*(L26+J26/2*(K26+Ферма!$M$27/20)^2)/J26)","v":2.843249811449688},27.86,1.64,54.64]
["□120x3","14","4.76","4.76",null,"Шир раз L125x80x7","28.12",4.01,{"$f":"SQRT(2*(L27+J27/2*(K27+Ферма!$M$27/20)^2)/J27)","v":3.1755242843972376},28.12,1.8,73.73]
["□70x6","14.7","2.59","2.59",null,"Шир раз L100x63x10","30.94",3.15,{"$f":"SQRT(2*(L28+J28/2*(K28+Ферма!$M$27/20)^2)/J28)","v":2.6401086636076379},30.94,1.58,47.18]
["□80x5","15","3.03","3.03",null,"Шир раз L125x80x8","31.96",4,{"$f":"SQRT(2*(L29+J29/2*(K29+Ферма!$M$27/20)^2)/J29)","v":3.175422355202123},31.96,1.84,80.95]
["□100x4","15.3","3.89","3.89",null,"Шир раз L140x90x8","36",4.49,{"$f":"SQRT(2*(L30+J30/2*(K30+Ферма!$M$27/20)^2)/J30)","v":3.5440732999693383},36,2.0299999999999998,119.8]
["□80x6","17.8","2.98","2.98",null,"Шир раз L125x80x10","39.4",3.98,{"$f":"SQRT(2*(L31+J31/2*(K31+Ферма!$M$27/20)^2)/J31)","v":3.2378886396291633},39.4,1.92,100.5]
["□120x4","18.5","4.71","4.71",null,"Шир раз L140x90x10","44.48",4.47,{"$f":"SQRT(2*(L32+J32/2*(K32+Ферма!$M$27/20)^2)/J32)","v":3.5906359028799284},44.48,2.12,145.5]
["□100x5","18.9","3.84","3.84",null,"Шир раз L160x100x9","45.74",5.15,{"$f":"SQRT(2*(L33+J33/2*(K33+Ферма!$M$27/20)^2)/J33)","v":3.8861967564134443},45.74,2.2400000000000002,186]
["□140x4","21.6","5.52","5.52",null,"Шир раз L125x80x12","46.72",3.95,{"$f":"SQRT(2*(L34+J34/2*(K34+Ферма!$M$27/20)^2)/J34)","v":3.2802438933713449},46.72,2,116.8]
["□100x6","22.6","3.8","3.8",null,"Шир раз L160x100x10","50.56",5.13,{"$f":"SQRT(2*(L35+J35/2*(K35+Ферма!$M$27/20)^2)/J35)","v":3.9058899049214237},50.56,2.2799999999999998,204.1]
["□120x5","22.9","4.66","4.66",null,"Шир раз L180x110x10","56.66",5.8,{"$f":"SQRT(2*(L36+J36/2*(K36+Ферма!$M$27/20)^2)/J36)","v":4.2216160335048496},56.66,2.44,276.39999999999998]
["□160x4","24.7","6.33","6.33",null,"Шир раз L160x100x12","60.08",5.1100000000000003,{"$f":"SQRT(2*(L37+J37/2*(K37+Ферма!$M$27/20)^2)/J37)","v":3.9455038713622819},60.08,2.36,238.8]
["□100x7","26.2","3.75","3.75",null,"Шир раз L180x110x12","67.38",5.77,{"$f":"SQRT(2*(L38+J38/2*(K38+Ферма!$M$27/20)^2)/J38)","v":4.25986681731675},67.38,2.52,324.10000000000002]
["□140x5","26.9","5.48","5.48",null,"Шир раз L160x100x14","69.44",5.08,{"$f":"SQRT(2*(L39+J39/2*(K39+Ферма!$M$27/20)^2)/J39)","v":3.978879320256056},69.44,2.4300000000000002,271.60000000000002]
["□120x6","27.4","4.61","4.61",null,"Шир раз L200x125x11","69.74",6.45,{"$f":"SQRT(2*(L40+J40/2*(K40+Ферма!$M$27/20)^2)/J40)","v":4.7935305765777878},69.739999999999995,2.79,446.4]
["□160x5","30.7","6.29","6.29",null,"Шир раз L200x125x12","75.78",6.43,{"$f":"SQRT(2*(L41+J41/2*(K41+Ферма!$M$27/20)^2)/J41)","v":4.8115792994582272},75.78,2.83,481.9]
["□140x6","32.1","5.43","5.43",null,"Шир раз L200x125x14","87.74",6.41,{"$f":"SQRT(2*(L42+J42/2*(K42+Ферма!$M$27/20)^2)/J42)","v":4.8488531587003854},87.74,2.91,550.79999999999995]
["□180x5","34.6","7.11","7.11",null,"Шир раз L200x125x16","99.54",6.38,{"$f":"SQRT(2*(L43+J43/2*(K43+Ферма!$M$27/20)^2)/J43)","v":4.8870337213416324},99.54,2.99,616.70000000000005]
["□160x6","36.8","6.24","6.24",null,"Вузькими разом"]
["□140x7","37.2","5.38","5.38",null,"Вузьк. Раз. L40x25x3","3.78",0.7,{"$f":"SQRT(2*(L45+J45/2*(K45+Ферма!$M$27/20)^2)/J45)","v":2.1394970481511817},3.78,1.32,3.06]
["□200x5","38.4","7.93","7.93",null,"Вузьк. Раз. L50x32x3","4.84",0.91,{"$f":"SQRT(2*(L46+J46/2*(K46+Ферма!$M$27/20)^2)/J46)","v":2.5600232436961314},4.84,1.6,6.18]
["□180x6","41.4","7.06","7.06",null,"Вузьк. Раз. L40x25x4","4.94",0.69,{"$f":"SQRT(2*(L47+J47/2*(K47+Ферма!$M$27/20)^2)/J47)","v":2.1734748945890559},4.9400000000000004,1.37,3.93]
["□140x8","42.3","5.33","5.33",null,"Вузьк. Раз. L50x32x4","6.34",0.9,{"$f":"SQRT(2*(L48+J48/2*(K48+Ферма!$M$27/20)^2)/J48)","v":2.5922673777464982},6.34,1.65,7.98]
["□160x7","42.8","6.2","6.2",null,"Вузьк. Раз. L63x40x4","8.08",1.1299999999999999,{"$f":"SQRT(2*(L49+J49/2*(K49+Ферма!$M$27/20)^2)/J49)","v":3.1538831950344628},8.08,2.0299999999999998,16.329999999999998]
["□200x6","45.6","7.88","7.88",null,"Вузьк. Раз. L63x40x5","9.96",1.1200000000000001,{"$f":"SQRT(2*(L50+J50/2*(K50+Ферма!$M$27/20)^2)/J50)","v":3.1856540879184427},9.9600000000000009,2.08,19.91]
["□180x7","48.2","7.01","7.01",null,"Вузьк. Раз. L63x40x6","11.8",1.1100000000000001,{"$f":"SQRT(2*(L51+J51/2*(K51+Ферма!$M$27/20)^2)/J51)","v":3.2095556480028695},11.8,2.12,23.31]
["□160x8","48.7","6.15","6.15",null,"Вузьк. Раз. L75x50x5","12.22",1.43,{"$f":"SQRT(2*(L52+J52/2*(K52+Ферма!$M$27/20)^2)/J52)","v":3.6716913917077894},12.22,2.39,34.81]
["□200x7","52.8","7.83","7.83",null,"Вузьк. Раз. L80x50x5","12.72",1.41,{"$f":"SQRT(2*(L53+J53/2*(K53+Ферма!$M$27/20)^2)/J53)","v":3.9429899583083841},12.72,2.6,41.64]
["□180x8","54.8","6.97","6.97",null,"Вузьк. Раз. L75x50x6","14.5",1.42,{"$f":"SQRT(2*(L54+J54/2*(K54+Ферма!$M$27/20)^2)/J54)","v":3.702666327261273},14.5,2.44,40.92]
["□200x8","59.8","7.78","7.78",null,"Вузьк. Раз. L80x50x6","15.1",1.4,{"$f":"SQRT(2*(L55+J55/2*(K55+Ферма!$M$27/20)^2)/J55)","v":3.9736528809828169},15.1,2.65,48.98]
["□180x9","61.5","6.91","6.91",null,"Вузьк. Раз. L63x40x8","15.36",1.0900000000000001,{"$f":"SQRT(2*(L56+J56/2*(K56+Ферма!$M$27/20)^2)/J56)","v":3.2579390213241664},15.36,2.2000000000000002,29.6]
["□200x9","66.7","7.73","7.73",null,"Вузьк. Раз. L90x56x5","15.72",1.58,{"$f":"SQRT(2*(L57+J57/2*(K57+Ферма!$M$27/20)^2)/J57)","v":4.396332961850181},15.72,2.92,65.28]
["□180x10","68.2","6.86","6.86",null,"Вузьк. Раз. L75x50x7","16.74",1.41,{"$f":"SQRT(2*(L58+J58/2*(K58+Ферма!$M$27/20)^2)/J58)","v":3.7258842735747559},16.739999999999998,2.48,46.77]
["□200x10","73.4","7.68","7.68",null,"Вузьк. Раз. L90x56x6","17.08",1.58,{"$f":"SQRT(2*(L59+J59/2*(K59+Ферма!$M$27/20)^2)/J59)","v":4.4144237452177064},17.079999999999998,2.95,70.58]
["□250x8","75.8","9.82","9.82",null,"Вузьк. Раз. L75x50x8","18.94",1.4,{"$f":"SQRT(2*(L60+J60/2*(K60+Ферма!$M$27/20)^2)/J60)","v":3.74934007568904},18.940000000000001,2.52,52.38]
["□200x11","80","7.64","7.64",null,"Вузьк. Раз. L100x63x6","19.16",1.79,{"$f":"SQRT(2*(L61+J61/2*(K61+Ферма!$M$27/20)^2)/J61)","v":4.8411585899134835},19.16,3.23,98.29]
["□250x9","84.7","9.78","9.78",null,"Вузьк. Раз. L100x63x7","22.18",1.78,{"$f":"SQRT(2*(L62+J62/2*(K62+Ферма!$M$27/20)^2)/J62)","v":4.8705998245633939},22.18,3.28,112.9]
["□200x12","86.5","7.59","7.59",null,"Вузьк. Раз. L90x56x8","22.36",1.56,{"$f":"SQRT(2*(L63+J63/2*(K63+Ферма!$M$27/20)^2)/J63)","v":4.4678302314148182},22.36,3.04,90.87]
["□300x8","89.9","11.94","11.94",null,"Вузьк. Раз. L110x70x6","22.9",2,{"$f":"SQRT(2*(L64+J64/2*(K64+Ферма!$M$27/20)^2)/J64)","v":5.2952036054062575},22.9,3.55,142.4]
["□200x13","92.9","7.54","7.54",null,"Вузьк. Раз. L100x63x8","25.14",1.77,{"$f":"SQRT(2*(L65+J65/2*(K65+Ферма!$M$27/20)^2)/J65)","v":4.8930379973261644},25.14,3.32,127]
["□250x10","93.4","9.73","9.73",null,"Вузьк. Раз. L110x70x8","27.86",1.98,{"$f":"SQRT(2*(L66+J66/2*(K66+Ферма!$M$27/20)^2)/J66)","v":5.3283822862989778},27.86,3.61,171.5]
["□200x14","99.2","7.49","7.49",null,"Вузьк. Раз. L125x80x7","28.12",2.29,{"$f":"SQRT(2*(L67+J67/2*(K67+Ферма!$M$27/20)^2)/J67)","v":5.9630219338196966},28.12,4.01,226.5]
["□300x9","101","11.9","11.9",null,"Вузьк. Раз. L100x63x10","30.94",1.75,{"$f":"SQRT(2*(L68+J68/2*(K68+Ферма!$M$27/20)^2)/J68)","v":4.9391042843031485},30.94,3.4,154]
["□250x11","102","9.68","9.68",null,"Вузьк. Раз. L125x80x8","31.96",2.2799999999999998,{"$f":"SQRT(2*(L69+J69/2*(K69+Ферма!$M$27/20)^2)/J69)","v":5.8241005364625646},31.96,4.05,225.6]
["□250x12","111","9.63","9.63",null,"Вузьк. Раз. L140x90x8","36",2.58,{"$f":"SQRT(2*(L70+J70/2*(K70+Ферма!$M$27/20)^2)/J70)","v":6.6421122811614346},36,4.49,363.7]
["□300x10","113","11.79","11.79",null,"Вузьк. Раз. L125x80x10","39.4",2.2599999999999998,{"$f":"SQRT(2*(L71+J71/2*(K71+Ферма!$M$27/20)^2)/J71)","v":6.0356324344055885},39.4,4.1399999999999997,311.60000000000002]
["□250x13","119","9.58","9.58",null,"Вузьк. Раз. L140x90x10","44.48",2.58,{"$f":"SQRT(2*(L72+J72/2*(K72+Ферма!$M$27/20)^2)/J72)","v":6.6923023535526927},44.48,4.58,444.5]
["□300x11","124","11.74","11.74",null,"Вузьк. Раз. L160x100x9","45.74",2.85,{"$f":"SQRT(2*(L73+J73/2*(K73+Ферма!$M$27/20)^2)/J73)","v":7.599058830062754},45.74,5.19,606]
["□250x14","127","9.53","9.53",null,"Вузьк. Раз. L125x80x12","46.72",2.2400000000000002,{"$f":"SQRT(2*(L74+J74/2*(K74+Ферма!$M$27/20)^2)/J74)","v":6.0795426107696935},46.72,4.22,364.8]
["□300x12","135","11.65","11.65",null,"Вузьк. Раз. L160x100x10","50.56",2.84,{"$f":"SQRT(2*(L75+J75/2*(K75+Ферма!$M$27/20)^2)/J75)","v":7.6200768294076902},50.56,5.23,666.6]
["□300x13","145","11.62","11.62",null,"Вузьк. Раз. L180x110x10","56.66",3.12,{"$f":"SQRT(2*(L76+J76/2*(K76+Ферма!$M$27/20)^2)/J76)","v":8.5471014319123721},56.66,5.88,952.3]
["□300x14","155","11.58","11.58",null,"Вузьк. Раз. L160x100x12","60.08",2.82,{"$f":"SQRT(2*(L77+J77/2*(K77+Ферма!$M$27/20)^2)/J77)","v":7.6696540388663434},60.08,5.32,784.2]
["Прямокутні вертикально",null,null,null,null,"Вузьк. Раз. L180x110x12","67.38",3.1,{"$f":"SQRT(2*(L78+J78/2*(K78+Ферма!$M$27/20)^2)/J78)","v":8.5964155538223146},67.38,5.97,1122.5999999999999]
["I 40x30x3","3.7","1.42","1.14",null,"Вузьк. Раз. L160x100x14","69.44",2.8,{"$f":"SQRT(2*(L79+J79/2*(K79+Ферма!$M$27/20)^2)/J79)","v":7.7123935211375718},69.44,5.4,897.2]
["I 45x30x3","4","1.6","1.15",null,"Вузьк. Раз. L200x125x11","69.74",3.58,{"$f":"SQRT(2*(L80+J80/2*(K80+Ферма!$M$27/20)^2)/J80)","v":9.4426873668950222},69.739999999999995,6.5,1449]
["I 50x35x3","4.6","1.8","1.36",null,"Вузьк. Раз. L200x125x12","75.78",3.57,{"$f":"SQRT(2*(L81+J81/2*(K81+Ферма!$M$27/20)^2)/J81)","v":9.4631828199708306},75.78,6.54,1568.2]
["I 40x30x4","4.7","1.38","1.09",null,"Вузьк. Раз. L200x125x14","87.74",3.54,{"$f":"SQRT(2*(L82+J82/2*(K82+Ферма!$M$27/20)^2)/J82)","v":9.5041544885171234},87.74,6.62,1800.8]
["I 45x30x4","5.1","1.55","1.14",null,"Вузьк. Раз. L200x125x16","99.54",3.52,{"$f":"SQRT(2*(L83+J83/2*(K83+Ферма!$M$27/20)^2)/J83)","v":9.5530813148427018},99.54,6.71,2026.1]
["I 60x40x3","5.5","2.17","1.58",null,"Рівнополичні"]
["I 50x35x4","5.9","1.76","1.31",null,"L35x3","4.08",1.07,{"$f":"SQRT(2*(L85+J85/2*(K85+Ферма!$M$27/20)^2)/J85)","v":1.7403622566332924},4.08,0.97,2.35]
["I 60x40x4","7.1","2.13","1.53",null,"L40x3","4.7",1.23,{"$f":"SQRT(2*(L86+J86/2*(K86+Ферма!$M$27/20)^2)/J86)","v":1.9315119201993918},4.7,1.0900000000000001,3.55]
["I 60x40x5","8.6","2.08","1.49",null,"L45x3","5.3",1.39,{"$f":"SQRT(2*(L87+J87/2*(K87+Ферма!$M$27/20)^2)/J87)","v":2.1278978021991031},5.3,1.21,5.13]
["I 100x60x3","9.2","3.66","2.46",null,"L35x4","5.34",1.06,{"$f":"SQRT(2*(L88+J88/2*(K88+Ферма!$M$27/20)^2)/J88)","v":1.7650611388759421},5.34,1.01,3.01]
["I 80x60x4","10.3","2.96","2.36",null,"L50x3","5.92",1.55,{"$f":"SQRT(2*(L89+J89/2*(K89+Ферма!$M$27/20)^2)/J89)","v":2.322698221256267},5.92,1.33,7.11]
["I 120x80x3","11.6","4.48","3.27",null,"L40x4","6.16",1.22,{"$f":"SQRT(2*(L90+J90/2*(K90+Ферма!$M$27/20)^2)/J90)","v":1.9565052995105805},6.16,1.1299999999999999,4.58]
["I 100x60x4","12.2","3.59","2.41",null,"L35x5","6.56",1.05,{"$f":"SQRT(2*(L91+J91/2*(K91+Ферма!$M$27/20)^2)/J91)","v":1.7897233741831617},6.56,1.05,3.61]
["I 80x60x5","12.6","2.91","2.31",null,"L45x4","6.96",1.38,{"$f":"SQRT(2*(L92+J92/2*(K92+Ферма!$M$27/20)^2)/J92)","v":2.1588822139693273},6.96,1.26,6.63]
["I 160x80x3","13.9","5.7","3.34",null,"L40x5","7.58",1.21,{"$f":"SQRT(2*(L93+J93/2*(K93+Ферма!$M$27/20)^2)/J93)","v":1.9809096148927821},7.58,1.17,5.53]
["I 140x100x3","14.2","5.31","4.1",null,"L50x4","7.78",1.54,{"$f":"SQRT(2*(L94+J94/2*(K94+Ферма!$M$27/20)^2)/J94)","v":2.3528725538155935},7.78,1.38,9.2100000000000009]
["I 80x60x6","14.7","2.87","2.28",null,"L45x5","8.58",1.37,{"$f":"SQRT(2*(L95+J95/2*(K95+Ферма!$M$27/20)^2)/J95)","v":2.1821537232273238},8.58,1.3,8.0299999999999994]
["I 100x60x5","15","3.54","2.36",null,"L56x4","8.76",1.73,{"$f":"SQRT(2*(L96+J96/2*(K96+Ферма!$M$27/20)^2)/J96)","v":2.5840409400604849},8.76,1.52,13.1]
["I 120x80x4","15.3","4.42","3.23",null,"L50x5","9.6",1.53,{"$f":"SQRT(2*(L97+J97/2*(K97+Ферма!$M$27/20)^2)/J97)","v":2.3760751952186472},9.6,1.42,11.2]
["I 140x60x4","15.3","4.86","2.5",null,"L63x4","9.92",1.95,{"$f":"SQRT(2*(L98+J98/2*(K98+Ферма!$M$27/20)^2)/J98)","v":2.8584120337765704},9.92,1.69,18.86]
["I 100x60x6","17.8","3.48","2.32",null,"L56x5","10.82",1.72,{"$f":"SQRT(2*(L99+J99/2*(K99+Ферма!$M$27/20)^2)/J99)","v":2.613970323143946},10.82,1.57,15.97]
["I 140x100x4","18.5","5.26","4.05",null,"L50x6","11.38",1.52,{"$f":"SQRT(2*(L100+J100/2*(K100+Ферма!$M$27/20)^2)/J100)","v":2.3992941258388285},11.38,1.46,13.07]
["I 160x80x4","18.5","5.73","3.34",null,"L63x5","12.26",1.94,{"$f":"SQRT(2*(L101+J101/2*(K101+Ферма!$M$27/20)^2)/J101)","v":2.8892823270521677},12.26,1.74,23.1]
["I 120x80x5","18.9","4.37","3.19",null,"L70x5","13.72",2.16,{"$f":"SQRT(2*(L102+J102/2*(K102+Ферма!$M$27/20)^2)/J102)","v":3.153724254969803},13.72,1.9,31.94]
["I 140x60x5","18.9","4.8","2.45",null,"L63x6","14.56",1.93,{"$f":"SQRT(2*(L103+J103/2*(K103+Ферма!$M$27/20)^2)/J103)","v":2.9102290231239478},14.56,1.78,27.06]
["I 160x120x4","21.6","6.08","4.88",null,"L75x5","14.78",2.31,{"$f":"SQRT(2*(L104+J104/2*(K104+Ферма!$M$27/20)^2)/J104)","v":3.3474647769644403},14.78,2.02,39.53]
["I 120x80x6","22.6","4.33","3.15",null,"L70x6","16.3",2.15,{"$f":"SQRT(2*(L105+J105/2*(K105+Ферма!$M$27/20)^2)/J105)","v":3.1759475664414354},16.3,1.94,37.58]
["I 140x60x6","22.6","4.75","2.41",null,"L75x6","17.56",2.2999999999999998,{"$f":"SQRT(2*(L106+J106/2*(K106+Ферма!$M$27/20)^2)/J106)","v":3.3698219875522257},17.559999999999999,2.06,46.57]
["I 140x100x5","22.9","5.2","4.01",null,"L80x6","18.76",2.4700000000000002,{"$f":"SQRT(2*(L107+J107/2*(K107+Ферма!$M$27/20)^2)/J107)","v":3.5751448596652162},18.760000000000002,2.19,56.97]
["I 160x80x5","22.9","5.67","3.29",null,"L70x7","18.84",2.14,{"$f":"SQRT(2*(L108+J108/2*(K108+Ферма!$M$27/20)^2)/J108)","v":3.2054223897000935},18.84,1.99,42.98]
["I 180x60x5","22.9","6.03","2.51",null,"L75x7","20.3",2.29,{"$f":"SQRT(2*(L109+J109/2*(K109+Ферма!$M$27/20)^2)/J109)","v":3.3919275366365218},20.3,2.1,53.34]
["I 180x140x4","24.6","6.91","5.7",null,"L90x6","21.22",2.78,{"$f":"SQRT(2*(L110+J110/2*(K110+Ферма!$M$27/20)^2)/J110)","v":3.9682342464719449},21.22,2.4300000000000002,82.1]
["I 120x80x7","26.3","4.28","3.1",null,"L70x8","21.34",2.12,{"$f":"SQRT(2*(L111+J111/2*(K111+Ферма!$M$27/20)^2)/J111)","v":3.2202468078208266},21.34,2.02,48.16]
["I 160x120x5","26.9","6.03","4.83",null,"L80x7","21.7",2.4500000000000002,{"$f":"SQRT(2*(L112+J112/2*(K112+Ферма!$M$27/20)^2)/J112)","v":3.5967005489350483},21.7,2.23,65.31]
["I 180x100x5","26.9","6.52","4.13",null,"L75x8","23",2.2799999999999998,{"$f":"SQRT(2*(L113+J113/2*(K113+Ферма!$M$27/20)^2)/J113)","v":3.4214000439687791},23,2.15,59.84]
["I 140x100x6","27.4","5.16","3.97",null,"L90x7","24.56",2.77,{"$f":"SQRT(2*(L114+J114/2*(K114+Ферма!$M$27/20)^2)/J114)","v":3.9894928367478668},24.56,2.4700000000000002,94.3]
["I 160x80x6","27.4","5.62","3.26",null,"L80x8","24.6",2.44,{"$f":"SQRT(2*(L115+J115/2*(K115+Ферма!$M$27/20)^2)/J115)","v":3.6184427095473577},24.6,2.27,73.36]
["I 180x60x6","27.4","5.97","2.46",null,"L75x9","25.66",2.27,{"$f":"SQRT(2*(L116+J116/2*(K116+Ферма!$M$27/20)^2)/J116)","v":3.4363334426723453},25.66,2.1800000000000002,66.099999999999994]
["I 200x120x4","27.7","7.68","6.47",null,"L100x7","27.5",3.08,{"$f":"SQRT(2*(L117+J117/2*(K117+Ферма!$M$27/20)^2)/J117)","v":4.3783049854315248},27.5,2.71,130.59]
["I 180x140x5","30.7","6.85","5.65",null,"L90x8","27.86",2.76,{"$f":"SQRT(2*(L118+J118/2*(K118+Ферма!$M$27/20)^2)/J118)","v":4.0106698414568571},27.86,2.5099999999999998,106.11]
["I 140x100x7","32","5.11","3.92",null,"L110x7","30.3",3.4,{"$f":"SQRT(2*(L119+J119/2*(K119+Ферма!$M$27/20)^2)/J119)","v":4.7834108272146336},30.3,2.96,175.61]
["I 160x120x6","32.1","5.99","4.79",null,"L90x9","31.2",2.75,{"$f":"SQRT(2*(L120+J120/2*(K120+Ферма!$M$27/20)^2)/J120)","v":4.0331876430563653},31.2,2.5499999999999998,118]
["I 180x100x6","32.1","6.47","4.09",null,"L100x8","31.2",3.07,{"$f":"SQRT(2*(L121+J121/2*(K121+Ферма!$M$27/20)^2)/J121)","v":4.3997450392331157},31.2,2.75,147.19]
["I 200x120x5","34.6","7.67","6.46",null,"L110x8","34.4",3.39,{"$f":"SQRT(2*(L122+J122/2*(K122+Ферма!$M$27/20)^2)/J122)","v":4.804322181942732},34.4,3,198.17]
["I 180x140x6","36.8","6.81","5.61",null,"L100x10","38.48",3.05,{"$f":"SQRT(2*(L123+J123/2*(K123+Ферма!$M$27/20)^2)/J123)","v":4.442278193780254},38.479999999999997,2.83,178.95]
["I 160x120x7","37.2","5.93","4.74",null,"L125x8","39.38",3.87,{"$f":"SQRT(2*(L124+J124/2*(K124+Ферма!$M$27/20)^2)/J124)","v":5.3932662339616675},39.380000000000003,3.36,294.36]
["I 180x100x7","37.2","6.41","4.04",null,"L125x9","44",3.86,{"$f":"SQRT(2*(L125+J125/2*(K125+Ферма!$M$27/20)^2)/J125)","v":5.4152981954325057},44,3.4,327.48]
["I 200x120x6","41.4","7.63","6.43",null,"L100x12","45.6",3.03,{"$f":"SQRT(2*(L126+J126/2*(K126+Ферма!$M$27/20)^2)/J126)","v":4.4853517924187827},45.6,2.91,208.9]
["I 160x120x8","42.3","5.88","4.69",null,"L125x10","48.66",3.85,{"$f":"SQRT(2*(L127+J127/2*(K127+Ферма!$M$27/20)^2)/J127)","v":5.4416586808178575},48.66,3.45,359.82]
["I 180x100x8","42.3","6.35","4",null,"L140x9","49.44",4.34,{"$f":"SQRT(2*(L128+J128/2*(K128+Ферма!$M$27/20)^2)/J128)","v":6.0121049413032299},49.44,3.76,465.72]
["I 180x140x7","42.8","6.75","5.56",null,"L100x14","52.56",3,{"$f":"SQRT(2*(L129+J129/2*(K129+Ферма!$M$27/20)^2)/J129)","v":4.5294671433557978},52.56,2.99,237.15]
["I 200x160x7","48.2","7.58","6.38",null,"L140x10","54.66",4.33,{"$f":"SQRT(2*(L130+J130/2*(K130+Ферма!$M$27/20)^2)/J130)","v":6.0459079550027797},54.66,3.82,512.29]
["I 180x140x8","48.7","6.7","5.51",null,"L125x12","57.78",3.82,{"$f":"SQRT(2*(L131+J131/2*(K131+Ферма!$M$27/20)^2)/J131)","v":5.4826993103070372},57.78,3.53,422.23]
["I 200x160x8","54.8","7.53","6.33",null,"L100x16","59.36",2.98,{"$f":"SQRT(2*(L132+J132/2*(K132+Ферма!$M$27/20)^2)/J132)","v":4.5673202226439633},59.36,3.06,263.82]
["I 200x160x9","61.3","7.48","6.28",null,"L160x10","62.86",4.96,{"$f":"SQRT(2*(L133+J133/2*(K133+Ферма!$M$27/20)^2)/J133)","v":6.8354801860008569},62.86,4.3,774.24]
["I 200x160x10","67.7","7.43","6.23",null,"L140x12","64.98",4.3099999999999996,{"$f":"SQRT(2*(L134+J134/2*(K134+Ферма!$M$27/20)^2)/J134)","v":6.0855451398476044},64.98,3.9,602.49]
["I 300x200x8","75.8","11.2","8.2",null,"L125x14","66.74",3.8,{"$f":"SQRT(2*(L135+J135/2*(K135+Ферма!$M$27/20)^2)/J135)","v":5.5242211567489274},66.739999999999995,3.61,481.76]
["I 320x180x8","75.8","11.7","7.49",null,"L160x11","68.84",4.95,{"$f":"SQRT(2*(L136+J136/2*(K136+Ферма!$M$27/20)^2)/J136)","v":6.8621591825121611},68.84,4.3499999999999996,844.21]
["I 300x200x9","84.7","11.15","8.15",null,"L160x12","74.78",4.9400000000000004,{"$f":"SQRT(2*(L137+J137/2*(K137+Ферма!$M$27/20)^2)/J137)","v":6.8818203767836792},74.78,4.3899999999999997,912.89]
["I 340x160x9","84.7","12.1","6.69",null,"L125x16","75.54",3.78,{"$f":"SQRT(2*(L138+J138/2*(K138+Ферма!$M$27/20)^2)/J138)","v":5.5592567545693354},75.540000000000006,3.68,538.55999999999995]
["I 300x200x10","93.4","11.1","8.11",null,"L180x11","77.6",5.6,{"$f":"SQRT(2*(L139+J139/2*(K139+Ферма!$M$27/20)^2)/J139)","v":7.6755486052628559},77.599999999999994,4.8499999999999996,1216.44]
["I 320x180x10","93.4","11.6","7.4",null,"L180x12","84.38",5.59,{"$f":"SQRT(2*(L140+J140/2*(K140+Ферма!$M$27/20)^2)/J140)","v":7.6935701122004421},84.38,4.8899999999999997,1316.62]
["I 340x160x10","93.4","12","6.65",null,"L160x14","87.14",4.92,{"$f":"SQRT(2*(L141+J141/2*(K141+Ферма!$M$27/20)^2)/J141)","v":6.9090543305161773},87.14,4.47,1046.47]
["I 300x200x11","102","11.05","8.06",null,"L200x12","94.2",6.22,{"$f":"SQRT(2*(L142+J142/2*(K142+Ферма!$M$27/20)^2)/J142)","v":8.4848755037551999},94.2,5.37,1822.78]
["I 300x200x12","111","11","8.01",null,"L160x16","98.14",4.8899999999999997,{"$f":"SQRT(2*(L143+J143/2*(K143+Ферма!$M$27/20)^2)/J143)","v":6.9607295712922745},98.14,4.55,1175.19]
["I 320x180x12","111","11.5","7.31",null,"L200x13","101.7",6.21,{"$f":"SQRT(2*(L144+J144/2*(K144+Ферма!$M$27/20)^2)/J144)","v":8.5107157164306528},101.7,5.42,1960.77]
["I 340x160x12","111","11.9","6.56",null,"L200x14","109.2",6.2,{"$f":"SQRT(2*(L145+J145/2*(K145+Ферма!$M$27/20)^2)/J145)","v":8.5291379052395104},109.2,5.46,2097]
["I 340x260x10","113","12.9","10.5",null,"L160x18","109.58",4.87,{"$f":"SQRT(2*(L146+J146/2*(K146+Ферма!$M$27/20)^2)/J146)","v":6.9892576700161211},109.58,4.63,1290.24]
["I 380x220x10","113","13.9","9.11",null,"L220x14","120.76",6.83,{"$f":"SQRT(2*(L147+J147/2*(K147+Ферма!$M$27/20)^2)/J147)","v":9.2966068152619723},120.76,5.91,2814.36]
["I 400x200x10","113","14.3","8.37",null,"L160x20","120.8",4.8499999999999996,{"$f":"SQRT(2*(L148+J148/2*(K148+Ферма!$M$27/20)^2)/J148)","v":7.0356871760855819},120.8,4.7,1418.85]
["I 300x200x13","119","10.95","7.96",null,"L200x16","123.96",6.17,{"$f":"SQRT(2*(L149+J149/2*(K149+Ферма!$M$27/20)^2)/J149)","v":8.5674887777058046},123.96,5.54,2362.5700000000002]
["I 300x200x14","127","10.9","7.92",null,"L220x16","137.16",6.8,{"$f":"SQRT(2*(L150+J150/2*(K150+Ферма!$M$27/20)^2)/J150)","v":9.3551649991317571},137.16,6.02,3175.44]
["I 320x180x14","127","11.3","7.21",null,"L200x20","153.08",6.12,{"$f":"SQRT(2*(L151+J151/2*(K151+Ферма!$M$27/20)^2)/J151)","v":8.6444166592143716},153.08000000000001,5.7,2871.47]
["I 340x160x14","127","11.8","6.47",null,"L250x16","156.8",7.76,{"$f":"SQRT(2*(L152+J152/2*(K152+Ферма!$M$27/20)^2)/J152)","v":10.549388220969721},156.80000000000001,6.75,4717.1000000000004]
["I 340x260x12","135","12.8","10.4",null,"L250x18","175.44",7.73,{"$f":"SQRT(2*(L153+J153/2*(K153+Ферма!$M$27/20)^2)/J153)","v":10.587301707967915},175.44,6.83,5247.24]
["I 380x220x12","135","13.8","9.02",null,"L200x25","188.58",6.06,{"$f":"SQRT(2*(L154+J154/2*(K154+Ферма!$M$27/20)^2)/J154)","v":8.7364330462384565},188.58,5.89,3466.21]
["I 400x200x12","135","14.2","8.28",null,"L250x20","193.92",7.71,{"$f":"SQRT(2*(L155+J155/2*(K155+Ферма!$M$27/20)^2)/J155)","v":10.625077293448232},193.92,6.91,5764.87]
["I 340x260x14","155","12.7","10.3",null,"L250x22","212.24",7.69,{"$f":"SQRT(2*(L156+J156/2*(K156+Ферма!$M$27/20)^2)/J156)","v":10.669914303315915},212.24,7,6270.32]
["I 380x220x14","155","13.7","8.93",null,"L200x30","223.08",6,{"$f":"SQRT(2*(L157+J157/2*(K157+Ферма!$M$27/20)^2)/J157)","v":8.8259954700473333},223.08,6.07,4019.6]
["I 400x200x14","155","14.1","8.19",null,"L250x25","239.42",7.65,{"$f":"SQRT(2*(L158+J158/2*(K158+Ферма!$M$27/20)^2)/J158)","v":10.720453631399446},239.42,7.11,7006.39]
["Прямокутні горизонтально",null,null,null,null,"L250x28","266.24",7.61,{"$f":"SQRT(2*(L159+J159/2*(K159+Ферма!$M$27/20)^2)/J159)","v":10.778965661006341},266.24,7.23,7716.86]
["─ 30x40x3","3.7","1.14","1.42",null,"L250x30","283.92",7.59,{"$f":"SQRT(2*(L160+J160/2*(K160+Ферма!$M$27/20)^2)/J160)","v":10.81866741507133},283.92,7.31,8176.82]
["─ 30x45x3","4","1.15","1.6",null,"Таври балкові"]
["─ 35x50x3","4.6","1.36","1.8",null,"5БТ1","5.16","1.41","1.24"]
["─ 30x40x4","4.7","1.09","1.38",null,"6БТ1","5.52","1.71","1.42"]
["─ 30x45x4","5.1","1.14","1.55",null,"6БТ2","6.61","1.7","1.45"]
["─ 40x60x3","5.5","1.58","2.17",null,"7БТ1","6.7","1.97","1.65"]
["─ 35x50x4","5.9","1.31","1.76",null,"7БТ2","8.22","1.99","1.65"]
["─ 40x60x4","7.1","1.53","2.13",null,"8БТ1","8.09","2.27","1.83"]
["─ 40x60x5","8.6","1.49","2.08",null,"8БТ2","10","2.3","1.84"]
["─ 60x100x3","9.2","2.46","3.66",null,"9БТ1","9.79","2.54","2.04"]
["─ 60x80x4","10.3","2.36","2.96",null,"9БТ2","12","2.59","2.05"]
["─ 80x120x3","11.6","3.27","4.48",null,"10БТ1","14.2","2.87","2.23"]
["─ 60x100x4","12.2","2.41","3.59",null,"11.5БТ1","16.5","3.32","2.47"]
["─ 60x80x5","12.6","2.31","2.91",null,"13БТ1","17.8","3.83","2.63"]
["─ 80x160x3","13.9","3.34","5.7",null,"13БТ2","19.9","3.77","2.7"]
["─ 100x140x3","14.2","4.1","5.31",null,"15БТ1","21","4.45","3.05"]
["─ 60x80x6","14.7","2.28","2.87",null,"15БТ2","23.3","4.31","3.13"]
["─ 60x100x5","15","2.36","3.54",null,"17.5БТ1","24.8","5.2","3.27"]
["─ 60x140x4","15.3","2.5","4.86",null,"17.5БТ2","27.6","5.15","3.36"]
["─ 80x120x4","15.3","3.23","4.42",null,"20БТ1","30.6","5.95","3.42"]
["─ 60x100x6","17.8","2.32","3.48",null,"20БТ2","34.9","5.91","3.52"]
["─ 80x160x4","18.5","3.34","5.73",null,"22.5БТ1","38.1","6.76","3.75"]
["─ 100x140x4","18.5","4.05","5.26",null,"22.5БТ2","43","6.71","3.84"]
["─ 60x140x5","18.9","2.45","4.8",null,"25БТ1","46.5","7.56","4.16"]
["─ 80x120x5","18.9","3.19","4.37",null,"25БТ2","51.4","7.49","4.27"]
["─ 120x160x4","21.6","4.88","6.08",null,"27.5БТ1","56.7","8.29","4.61"]
["─ 60x140x6","22.6","2.41","4.75",null,"27.5БТ2","62.4","8.22","4.7"]
["─ 80x120x6","22.6","3.15","4.33",null,"30БТ1","67.6","9.08","4.83"]
["─ 60x180x5","22.9","2.51","6.03",null,"30БТ2","73.7","9.02","4.92"]
["─ 80x160x5","22.9","3.29","5.67",null,"35БТ1","82.4","10.84","5.26"]
["─ 100x140x5","22.9","4.01","5.2",null,"35БТ2","91.8","10.73","5.44"]
["─ 140x180x4","24.6","5.7","6.91",null,"40БТ1","101.6","12.55","5.54"]
["─ 80x120x7","26.3","3.1","4.28",null,"40БТ2","113.3","12.41","5.76"]
["─ 100x180x5","26.9","4.13","6.52",null,"45БТ1","123.6","14.23","5.82"]
["─ 120x160x5","26.9","4.83","6.03",null,"45БТ2","136.2","14.14","6.04"]
["─ 60x180x6","27.4","2.46","5.97",null,"50БТ1","146.9","15.77","6.26"]
["─ 80x160x6","27.4","3.26","5.62",null,"50БТ2","164.5","15.74","6.46"]
["─ 100x140x6","27.4","3.97","5.16",null,"50БТ3","182","15.64","6.61"]
["─ 120x200x4","27.7","6.47","7.68",null,"50БТ4","200.3","15.66","6.67"]
["─ 140x180x5","30.7","5.65","6.85",null,"Таври широкополичні"]
["─ 100x140x7","32","3.92","5.11",null,"10ШТ1","19.5","2.56","3.61"]
["─ 100x180x6","32.1","4.09","6.47",null,"11.5ШТ1","23","3.06","3.67"]
["─ 120x160x6","32.1","4.79","5.99",null,"13ШТ1","27.2","3.38","4.23"]
["─ 120x200x5","34.6","6.46","7.67",null,"13ШТ2","31.4","3.33","4.31"]
["─ 140x180x6","36.8","5.61","6.81",null,"15ШТ1","34.2","4.06","4.64"]
["─ 100x180x7","37.2","4.04","6.41",null,"15ШТ2","38.8","3.94","4.73"]
["─ 120x160x7","37.2","4.74","5.93",null,"15ШТ3","43.5","3.89","4.8"]
["─ 120x200x6","41.4","6.43","7.63",null,"17.5ШТ1","47.8","4.65","5.84"]
["─ 100x180x8","42.3","4","6.35",null,"17.5ШТ2","52.4","4.6","5.9"]
["─ 120x160x8","42.3","4.69","5.88",null,"17.5ШТ3","58.2","4.55","5.99"]
["─ 140x180x7","42.8","5.56","6.75",null,"20ШТ1","61.2","5.14","7.18"]
["─ 160x200x7","48.2","6.38","7.58",null,"20ШТ2","70.8","5.28","7.14"]
["─ 140x180x8","48.7","5.51","6.7",null,"20ШТ3","78.6","5.29","7.18"]
["─ 160x200x8","54.8","6.33","7.53",null,"25ШТ1","72.9","6.88","6.81"]
["─ 160x200x9","61.3","6.28","7.48",null,"25ШТ2","88.3","7.1","6.69"]
["─ 160x200x10","67.7","6.23","7.43",null,"25ШТ3","99.6","7.07","6.81"]
["─ 180x320x8","75.8","7.49","11.7",null,"25ШТ4","110.9","7.03","6.92"]
["─ 200x300x8","75.8","8.2","11.2",null,"30ШТ1","90.6","8.42","7.17"]
["─ 160x340x9","84.7","6.69","12.1",null,"30ШТ2","112.7","8.66","7.06"]
["─ 200x300x9","84.7","8.15","11.15",null,"30ШТ3","130.9","8.67","7.16"]
["─ 160x340x10","93.4","6.65","12",null,"30ШТ4","149.2","8.68","7.23"]
["─ 180x320x10","93.4","7.4","11.6",null,"35ШТ1","108.2","10.22","6.93"]
["─ 200x300x10","93.4","8.11","11.1",null,"35ШТ2","125.9","10.18","7.07"]
["─ 200x300x11","102","8.06","11.05",null,"35ШТ3","149.9","10.3","7.09"]
["─ 160x340x12","111","6.56","11.9",null,"35ШТ4","170.8","10.38","7.11"]
["─ 180x320x12","111","7.31","11.5",null,"35ШТ5","194.9","10.44","7.17"]
["─ 200x300x12","111","8.01","11",null,"Таври колонні"]
["─ 200x400x10","113","8.37","14.3",null,"10КТ1","26.4","2.33","5.03"]
["─ 220x380x10","113","9.11","13.9",null,"10КТ2","29.9","2.37","5.07"]
["─ 260x340x10","113","10.5","12.9",null,"11.5КТ1","33.3","2.76","6.03"]
["─ 200x300x13","119","7.96","10.95",null,"11.5КТ2","37.9","2.74","6.04"]
["─ 160x340x14","127","6.47","11.8",null,"13КТ1","41.5","3.04","6.51"]
["─ 180x320x14","127","7.21","11.3",null,"13КТ2","46.6","3.15","6.52"]
["─ 200x300x14","127","7.92","10.9",null,"13КТ3","53","3.12","6.55"]
["─ 200x400x12","135","8.28","14.2",null,"15КТ1","54","3.58","7.5"]
["─ 220x380x12","135","9.02","13.8",null,"15КТ2","61.4","3.56","7.54"]
["─ 260x340x12","135","10.4","12.8",null,"15КТ3","69.4","3.68","7.54"]
["─ 200x400x14","155","8.19","14.1",null,"17.5КТ1","69.9","4.15","8.76"]
["─ 220x380x14","155","8.93","13.7",null,"17.5КТ2","80.2","4.16","8.83"]
["─ 260x340x14","155","10.3","12.7",null,"17.5КТ3","92.1","4.24","8.81"]
["last",null,null,null,null,"20КТ1","87.9","4.83","10"]
[null,null,null,null,null,"20КТ2","105.5","4.84","10.06"]
[null,null,null,null,null,"20КТ3","128.9","4.94","10.07"]
[null,null,null,null,null,"20КТ4","154.3","5.05","10.1"]
[null,null,null,null,null,"20КТ5","185.5","5.19","10.11"]
[null,null,null,null,null,"last"]